BEGIN:VCALENDAR
VERSION:2.0
PRODID:-//Women Against Military Madness - ECPv6.15.20//NONSGML v1.0//EN
CALSCALE:GREGORIAN
METHOD:PUBLISH
X-WR-CALNAME:Women Against Military Madness
X-ORIGINAL-URL:https://womenagainstmilitarymadness.org
X-WR-CALDESC:Events for Women Against Military Madness
REFRESH-INTERVAL;VALUE=DURATION:PT1H
X-Robots-Tag:noindex
X-PUBLISHED-TTL:PT1H
BEGIN:VTIMEZONE
TZID:America/Chicago
BEGIN:DAYLIGHT
TZOFFSETFROM:-0600
TZOFFSETTO:-0500
TZNAME:CDT
DTSTART:20250309T080000
END:DAYLIGHT
BEGIN:STANDARD
TZOFFSETFROM:-0500
TZOFFSETTO:-0600
TZNAME:CST
DTSTART:20251102T070000
END:STANDARD
BEGIN:DAYLIGHT
TZOFFSETFROM:-0600
TZOFFSETTO:-0500
TZNAME:CDT
DTSTART:20260308T080000
END:DAYLIGHT
BEGIN:STANDARD
TZOFFSETFROM:-0500
TZOFFSETTO:-0600
TZNAME:CST
DTSTART:20261101T070000
END:STANDARD
BEGIN:DAYLIGHT
TZOFFSETFROM:-0600
TZOFFSETTO:-0500
TZNAME:CDT
DTSTART:20270314T080000
END:DAYLIGHT
BEGIN:STANDARD
TZOFFSETFROM:-0500
TZOFFSETTO:-0600
TZNAME:CST
DTSTART:20271107T070000
END:STANDARD
END:VTIMEZONE
BEGIN:VEVENT
DTSTART;TZID=America/Chicago:20260112T190000
DTEND;TZID=America/Chicago:20260112T210000
DTSTAMP:20260423T162212
CREATED:20251219T002240Z
LAST-MODIFIED:20251219T002240Z
UID:33279-1768244400-1768251600@womenagainstmilitarymadness.org
SUMMARY:Iran: The Great Game Film Screening
DESCRIPTION:Monday\, January 12\, 2026\, 7 PM\, 4200 Cedar Ave S\, Minneapolis \nWAMM Monday Movie\nJanuary 12\, 2026 7pm\n4200 Cedar Ave Minneapolis – Entrance on 42nd street \nIran: The Great Game\, is a personal\, eye-opening journey across Iran and through Persia’s history\, seeking ways to heal US – Iran tensions. Featuring Alistair Crooke\, Pepe Escobar\, Dr. Mohammad Larajani\, Professor Seyed Marandi\, Jeffrey Sachs and Oliver Stone …. Director Igor Lopatonok…uses the January 2020 downing of Flight PS752 as a harrowing lens through which to examine over a century of foreign intervention\, regime change and war in Iran. From the shadows of the 1953 CIA/MI6 orchestrated coup that toppled Iran’s democratic government and reinstalled the Shah – to the 1979 revolution that finally overthrew the US-backed monarch\, the film unearths history that mainstream narratives have long obscured.\nProducer/Director: Igor Lopatonok / 2025 / 1hour\, 54 minutes \nSponsored by the WAMM Middle East Committee. Organized by the WAMM Movie Committee \n\n\n	Related
URL:https://womenagainstmilitarymadness.org/events/iran-the-great-game-film-screening/
LOCATION:4200 Cedar Ave S\, Minneapolis MN 55407\, 4200 Cedar Ave S\, Minneapolis\, MN\, 55407\, United States
CATEGORIES:Featured Events,Upcoming Events
ATTACH;FMTTYPE=image/webp:https://womenagainstmilitarymadness.org/wp-content/uploads/2025/12/IranTheGreatGame.webp
END:VEVENT
END:VCALENDAR