BEGIN:VCALENDAR
VERSION:2.0
PRODID:-//Women Against Military Madness - ECPv6.15.20//NONSGML v1.0//EN
CALSCALE:GREGORIAN
METHOD:PUBLISH
X-WR-CALNAME:Women Against Military Madness
X-ORIGINAL-URL:https://womenagainstmilitarymadness.org
X-WR-CALDESC:Events for Women Against Military Madness
REFRESH-INTERVAL;VALUE=DURATION:PT1H
X-Robots-Tag:noindex
X-PUBLISHED-TTL:PT1H
BEGIN:VTIMEZONE
TZID:America/Chicago
BEGIN:DAYLIGHT
TZOFFSETFROM:-0600
TZOFFSETTO:-0500
TZNAME:CDT
DTSTART:20240310T080000
END:DAYLIGHT
BEGIN:STANDARD
TZOFFSETFROM:-0500
TZOFFSETTO:-0600
TZNAME:CST
DTSTART:20241103T070000
END:STANDARD
BEGIN:DAYLIGHT
TZOFFSETFROM:-0600
TZOFFSETTO:-0500
TZNAME:CDT
DTSTART:20250309T080000
END:DAYLIGHT
BEGIN:STANDARD
TZOFFSETFROM:-0500
TZOFFSETTO:-0600
TZNAME:CST
DTSTART:20251102T070000
END:STANDARD
BEGIN:DAYLIGHT
TZOFFSETFROM:-0600
TZOFFSETTO:-0500
TZNAME:CDT
DTSTART:20260308T080000
END:DAYLIGHT
BEGIN:STANDARD
TZOFFSETFROM:-0500
TZOFFSETTO:-0600
TZNAME:CST
DTSTART:20261101T070000
END:STANDARD
END:VTIMEZONE
BEGIN:VEVENT
DTSTART;TZID=America/Chicago:20250806T160000
DTEND;TZID=America/Chicago:20250806T200000
DTSTAMP:20260424T070725
CREATED:20250709T174942Z
LAST-MODIFIED:20250709T174959Z
UID:30451-1754496000-1754510400@womenagainstmilitarymadness.org
SUMMARY:Kids' Guernica Project
DESCRIPTION:Public Workshops: Wednesday\, August 6\, 4-8 PM\, The Cha Ami Cultural Center\, 2855 Anthony Ln S\, Suite B5\, St Anthony\, MN 55418 \n  \nWe will bring the mural to the Nagasaki ceremony at the labyrinth on Friday\, August 8th. We will also display it at Obon and at the Peace Event at the MN History Center on August 23 when Nagasaki Mayor Suzuki will speak and 16 junior high students from Nagasaki make a presentation. The mural will return to Nagasaki where it will also be on display in September.\nFFI: kids-guernica.org or email spnscc@gmail.com \nFree registration! \n  \nEndorsed by WAMM \n\n\n	Related
URL:https://womenagainstmilitarymadness.org/events/kids-guernica-project-2/
LOCATION:Cha Ami Cultural Center\, 2855 Anthony Ln S\, Suite B5\, St. Anthony\, MN\, 55418\, United States
CATEGORIES:Featured Events,Sponsored Events,Upcoming Events
ATTACH;FMTTYPE=image/webp:https://womenagainstmilitarymadness.org/wp-content/uploads/2025/07/images2.webp
ORGANIZER;CN="Women Against Military Madness":MAILTO:general@wamm.me
END:VEVENT
END:VCALENDAR