BEGIN:VCALENDAR
VERSION:2.0
PRODID:-//Women Against Military Madness - ECPv6.15.20//NONSGML v1.0//EN
CALSCALE:GREGORIAN
METHOD:PUBLISH
X-WR-CALNAME:Women Against Military Madness
X-ORIGINAL-URL:https://womenagainstmilitarymadness.org
X-WR-CALDESC:Events for Women Against Military Madness
REFRESH-INTERVAL;VALUE=DURATION:PT1H
X-Robots-Tag:noindex
X-PUBLISHED-TTL:PT1H
BEGIN:VTIMEZONE
TZID:America/Chicago
BEGIN:DAYLIGHT
TZOFFSETFROM:-0600
TZOFFSETTO:-0500
TZNAME:CDT
DTSTART:20240310T080000
END:DAYLIGHT
BEGIN:STANDARD
TZOFFSETFROM:-0500
TZOFFSETTO:-0600
TZNAME:CST
DTSTART:20241103T070000
END:STANDARD
BEGIN:DAYLIGHT
TZOFFSETFROM:-0600
TZOFFSETTO:-0500
TZNAME:CDT
DTSTART:20250309T080000
END:DAYLIGHT
BEGIN:STANDARD
TZOFFSETFROM:-0500
TZOFFSETTO:-0600
TZNAME:CST
DTSTART:20251102T070000
END:STANDARD
BEGIN:DAYLIGHT
TZOFFSETFROM:-0600
TZOFFSETTO:-0500
TZNAME:CDT
DTSTART:20260308T080000
END:DAYLIGHT
BEGIN:STANDARD
TZOFFSETFROM:-0500
TZOFFSETTO:-0600
TZNAME:CST
DTSTART:20261101T070000
END:STANDARD
END:VTIMEZONE
BEGIN:VEVENT
DTSTART;TZID=America/Chicago:20251212T110000
DTEND;TZID=America/Chicago:20251212T120000
DTSTAMP:20260425T064918
CREATED:20241210T210751Z
LAST-MODIFIED:20241210T210751Z
UID:29112-1765537200-1765540800@womenagainstmilitarymadness.org
SUMMARY:Know Your Rights Training
DESCRIPTION:Thursday\, December 12\, 2024\, 11:00 AM\, Normandale Community College\, 9501 Collegeview Rd\, Room P0806\, Minneapolis\, MN 55431 \nStudents For Palestine Normandale is proud to sponsor a presentation by Jaylani Hussein (CAIR-MN) this Thursday at 11:00 AM at Normandale Community College.  He will be discussing “Know Your Rights” a must for all activists and people of color. He will also be discussing Islamophobia and how it affects us all. This event is free and open to the public\, we hope to see you there. \nOrganized by Students for Palestine – Normandale \n\n\n	Related
URL:https://womenagainstmilitarymadness.org/events/know-your-rights-training/
LOCATION:Normandale Community College\, 9700 France Ave S\, Bloomington\, MN\, 55431\, United States
CATEGORIES:Featured Events,Upcoming Events
ATTACH;FMTTYPE=image/jpeg:https://womenagainstmilitarymadness.org/wp-content/uploads/2024/12/Jaylani-Speaker-poster.pdf-1-scaled.jpg
END:VEVENT
END:VCALENDAR