BEGIN:VCALENDAR
VERSION:2.0
PRODID:-//Women Against Military Madness - ECPv6.15.20//NONSGML v1.0//EN
CALSCALE:GREGORIAN
METHOD:PUBLISH
X-WR-CALNAME:Women Against Military Madness
X-ORIGINAL-URL:https://womenagainstmilitarymadness.org
X-WR-CALDESC:Events for Women Against Military Madness
REFRESH-INTERVAL;VALUE=DURATION:PT1H
X-Robots-Tag:noindex
X-PUBLISHED-TTL:PT1H
BEGIN:VTIMEZONE
TZID:America/Chicago
BEGIN:DAYLIGHT
TZOFFSETFROM:-0600
TZOFFSETTO:-0500
TZNAME:CDT
DTSTART:20240310T080000
END:DAYLIGHT
BEGIN:STANDARD
TZOFFSETFROM:-0500
TZOFFSETTO:-0600
TZNAME:CST
DTSTART:20241103T070000
END:STANDARD
BEGIN:DAYLIGHT
TZOFFSETFROM:-0600
TZOFFSETTO:-0500
TZNAME:CDT
DTSTART:20250309T080000
END:DAYLIGHT
BEGIN:STANDARD
TZOFFSETFROM:-0500
TZOFFSETTO:-0600
TZNAME:CST
DTSTART:20251102T070000
END:STANDARD
BEGIN:DAYLIGHT
TZOFFSETFROM:-0600
TZOFFSETTO:-0500
TZNAME:CDT
DTSTART:20260308T080000
END:DAYLIGHT
BEGIN:STANDARD
TZOFFSETFROM:-0500
TZOFFSETTO:-0600
TZNAME:CST
DTSTART:20261101T070000
END:STANDARD
END:VTIMEZONE
BEGIN:VEVENT
DTSTART;TZID=America/Chicago:20251019T160000
DTEND;TZID=America/Chicago:20251019T170000
DTSTAMP:20260423T174111
CREATED:20231017T163144Z
LAST-MODIFIED:20231017T163144Z
UID:26385-1760889600-1760893200@womenagainstmilitarymadness.org
SUMMARY:Let Gaza Live! Free Palestine - Rally and Bannering
DESCRIPTION:Friday\, October 20\, 2023 from 4:00 – 5:00 pm\n\nAt the corner of Snelling and Summit Ave\, St. Paul\, MN\nInitiated by Women Against Military Madness\n\n\nJoin WAMM’s Middle East Committee this Friday for their weekly vigil dedicated to Palestinian solidarity. Meet us at the corner of Snelling and Summit Avenues in St Paul at 4:00 pm. Feel free to bring signs and flags!\nFROM THE RIVER TO THE SEA\, PALESTINE WILL BE FREE!\n\n\n	Related
URL:https://womenagainstmilitarymadness.org/events/let-gaza-live-free-palestine-rally-and-bannering/
LOCATION:Corner of Summit & Snelling in St. Paul\, Corner of Summit Ave and Snelling Ave\, St. Paul\, Minneapolis\, MN\, 55407\, United States
CATEGORIES:Featured Events,Upcoming Events
ATTACH;FMTTYPE=image/jpeg:https://womenagainstmilitarymadness.org/wp-content/uploads/2023/10/101523.jpg
END:VEVENT
END:VCALENDAR