BEGIN:VCALENDAR
VERSION:2.0
PRODID:-//Women Against Military Madness - ECPv6.15.20//NONSGML v1.0//EN
CALSCALE:GREGORIAN
METHOD:PUBLISH
X-WR-CALNAME:Women Against Military Madness
X-ORIGINAL-URL:https://womenagainstmilitarymadness.org
X-WR-CALDESC:Events for Women Against Military Madness
REFRESH-INTERVAL;VALUE=DURATION:PT1H
X-Robots-Tag:noindex
X-PUBLISHED-TTL:PT1H
BEGIN:VTIMEZONE
TZID:America/Chicago
BEGIN:DAYLIGHT
TZOFFSETFROM:-0600
TZOFFSETTO:-0500
TZNAME:CDT
DTSTART:20240310T080000
END:DAYLIGHT
BEGIN:STANDARD
TZOFFSETFROM:-0500
TZOFFSETTO:-0600
TZNAME:CST
DTSTART:20241103T070000
END:STANDARD
BEGIN:DAYLIGHT
TZOFFSETFROM:-0600
TZOFFSETTO:-0500
TZNAME:CDT
DTSTART:20250309T080000
END:DAYLIGHT
BEGIN:STANDARD
TZOFFSETFROM:-0500
TZOFFSETTO:-0600
TZNAME:CST
DTSTART:20251102T070000
END:STANDARD
BEGIN:DAYLIGHT
TZOFFSETFROM:-0600
TZOFFSETTO:-0500
TZNAME:CDT
DTSTART:20260308T080000
END:DAYLIGHT
BEGIN:STANDARD
TZOFFSETFROM:-0500
TZOFFSETTO:-0600
TZNAME:CST
DTSTART:20261101T070000
END:STANDARD
END:VTIMEZONE
BEGIN:VEVENT
DTSTART;TZID=America/Chicago:20250515T190000
DTEND;TZID=America/Chicago:20250515T210000
DTSTAMP:20260425T072811
CREATED:20230424T154541Z
LAST-MODIFIED:20230504T183927Z
UID:25114-1747335600-1747342800@womenagainstmilitarymadness.org
SUMMARY:Mandela: U.S. Nakbar Tour
DESCRIPTION:Mandela Nakbar Tour Comes to Minneapolis\nTuesday\, May 16\, 2023\, 7:00 PM\nCowles Auditorium\, Humphrey School of Public Affairs in Minneapolis\nU of M West Bank Campus\n301 S 19th Ave\, Minneapolis\, MN 55455 \n2023 marks the 75th anniversary of the Nakba (“Catastrophe” in English)\, when over 750\,000 Palestinians were banished from their homes upon the formation of the settler-colonial state of Israel. Today\, there are close to five million Palestinian refugees who continue to demand their Right to Return to the homes and lands from which they were exiled.\n\nTo commemorate the Nakba\, the U.S. Palestinian Community Network (USPCN) and the National Alliance Against Racist and Political Repression (NAARPR) have arranged a brief U.S. Nakba Day 75 tour\, to take place from May 15th – May 20th\, featuring Nkosi Zwelivelile Mandela\, elected member of the South African National Assembly representing the African National Congress – and grandson of the late Nelson Mandela – as the tour’s keynote speaker.\n\nMr. Mandela\, also the tribal chief of the Mvezo Traditional Council\, holds a degree and a post-graduate diploma in Political Science and International Studies from Rhodes University. Unabashed in his support for the Palestinian people\, just like his grandfather\, he speaks regularly about Palestinian liberation at conferences\, rallies\, and other events across the world.\n\nMandela\, whose family fought against South African apartheid\, is coming to Minneapolis to speak out against Israeli apartheid and for the rights of Palestinians. The Anti-War Committee and the Twin Cities Coalition for Justice for Jamar are hosting this event to also draw attention to the cooperation between US police forces\, including the Minneapolis Police Force\, and the Israeli Defense Forces.\n\nInitiated by the Anti-War Committee and Twin Cities Coalition for Justice for Jamar. Co-sponsored by Council on American Islamic Relations\, Jewish Voice for Peace -TC\, MN BDS Community\, MN Immigrant Rights Action Committee\, Northfielders for Justice in Palestine\, Students for a Democratic Society @ the U of MN\, Veterans for Peace Chapter 27 and Women Against Military Madness.\n\n\n	Related
URL:https://womenagainstmilitarymadness.org/events/mandela-u-s-nakbar-tour/
LOCATION:Humphrey School of Public Affairs\, 301 19th Avenue South\, Minneapolis\, MN\, 55455\, United States
CATEGORIES:Featured Events,Upcoming Events
ATTACH;FMTTYPE=image/jpeg:https://womenagainstmilitarymadness.org/wp-content/uploads/2023/04/MandelaNakbar.jpeg
ORGANIZER;CN="Anti-War Committee":MAILTO:info@antiwarcommittee.org
END:VEVENT
END:VCALENDAR