BEGIN:VCALENDAR
VERSION:2.0
PRODID:-//Women Against Military Madness - ECPv6.15.20//NONSGML v1.0//EN
CALSCALE:GREGORIAN
METHOD:PUBLISH
X-WR-CALNAME:Women Against Military Madness
X-ORIGINAL-URL:https://womenagainstmilitarymadness.org
X-WR-CALDESC:Events for Women Against Military Madness
REFRESH-INTERVAL;VALUE=DURATION:PT1H
X-Robots-Tag:noindex
X-PUBLISHED-TTL:PT1H
BEGIN:VTIMEZONE
TZID:America/Chicago
BEGIN:DAYLIGHT
TZOFFSETFROM:-0600
TZOFFSETTO:-0500
TZNAME:CDT
DTSTART:20240310T080000
END:DAYLIGHT
BEGIN:STANDARD
TZOFFSETFROM:-0500
TZOFFSETTO:-0600
TZNAME:CST
DTSTART:20241103T070000
END:STANDARD
BEGIN:DAYLIGHT
TZOFFSETFROM:-0600
TZOFFSETTO:-0500
TZNAME:CDT
DTSTART:20250309T080000
END:DAYLIGHT
BEGIN:STANDARD
TZOFFSETFROM:-0500
TZOFFSETTO:-0600
TZNAME:CST
DTSTART:20251102T070000
END:STANDARD
BEGIN:DAYLIGHT
TZOFFSETFROM:-0600
TZOFFSETTO:-0500
TZNAME:CDT
DTSTART:20260308T080000
END:DAYLIGHT
BEGIN:STANDARD
TZOFFSETFROM:-0500
TZOFFSETTO:-0600
TZNAME:CST
DTSTART:20261101T070000
END:STANDARD
END:VTIMEZONE
BEGIN:VEVENT
DTSTART;TZID=America/Chicago:20250517T133000
DTEND;TZID=America/Chicago:20250517T150000
DTSTAMP:20260423T185727
CREATED:20250513T160411Z
LAST-MODIFIED:20250515T163835Z
UID:30141-1747488600-1747494000@womenagainstmilitarymadness.org
SUMMARY:MARCH AGAINST THE ONGOING NAKBA
DESCRIPTION:Saturday\, May 17\, 2025\, 1:30 PM\, Gateway Park Fountain (1 S 1st St Minneapolis) \n🇵🇸 Al-Nakba\, Arabic for “the catastrophe” refers to the violent expulsion of 750\,000+ Palestinians to pave way for Israeli land theft. Hundreds of ethnic cleansing operations made possible the creation of the colonial state of Israel on May 15th\, 1948. \n🪧 But the Nakba continues! Israel continues to displace Palestinians\, mass demolish homes\, exile\, and deny the 6 million descendents of the 1948 exiles the right to return home—a right enshrined by international law. \n😡 Trump continues to escalate the ethnic cleansing of Palestinians by facilitating exile—in the US and abroad! \nMarch to demand an END to the ongoing Nakba! Right of return for ALL Palestinians! MN Divest from genocide NOW! Free Mahmoud Khalil! Defend the right to protest! Initiated by American Muslims for Palestine – MN\, Anti War Committee\, and the Free Palestine Coalition MN \n\n\n	Related
URL:https://womenagainstmilitarymadness.org/events/march-against-the-ongoing-nakba/
LOCATION:Gateway Park\, 1 S 1st St\, Minneapolis\, MN\, 55401\, United States
CATEGORIES:Featured Events,Sponsored Events,Upcoming Events
ATTACH;FMTTYPE=image/webp:https://womenagainstmilitarymadness.org/wp-content/uploads/2025/05/3e2f8f2d-fcbb-09e9-8cf2-cbdc3d57ad67.webp
END:VEVENT
END:VCALENDAR