BEGIN:VCALENDAR
VERSION:2.0
PRODID:-//Women Against Military Madness - ECPv6.15.20//NONSGML v1.0//EN
CALSCALE:GREGORIAN
METHOD:PUBLISH
X-WR-CALNAME:Women Against Military Madness
X-ORIGINAL-URL:https://womenagainstmilitarymadness.org
X-WR-CALDESC:Events for Women Against Military Madness
REFRESH-INTERVAL;VALUE=DURATION:PT1H
X-Robots-Tag:noindex
X-PUBLISHED-TTL:PT1H
BEGIN:VTIMEZONE
TZID:America/Chicago
BEGIN:DAYLIGHT
TZOFFSETFROM:-0600
TZOFFSETTO:-0500
TZNAME:CDT
DTSTART:20250309T080000
END:DAYLIGHT
BEGIN:STANDARD
TZOFFSETFROM:-0500
TZOFFSETTO:-0600
TZNAME:CST
DTSTART:20251102T070000
END:STANDARD
BEGIN:DAYLIGHT
TZOFFSETFROM:-0600
TZOFFSETTO:-0500
TZNAME:CDT
DTSTART:20260308T080000
END:DAYLIGHT
BEGIN:STANDARD
TZOFFSETFROM:-0500
TZOFFSETTO:-0600
TZNAME:CST
DTSTART:20261101T070000
END:STANDARD
BEGIN:DAYLIGHT
TZOFFSETFROM:-0600
TZOFFSETTO:-0500
TZNAME:CDT
DTSTART:20270314T080000
END:DAYLIGHT
BEGIN:STANDARD
TZOFFSETFROM:-0500
TZOFFSETTO:-0600
TZNAME:CST
DTSTART:20271107T070000
END:STANDARD
END:VTIMEZONE
BEGIN:VEVENT
DTSTART;TZID=America/Chicago:20260228T100000
DTEND;TZID=America/Chicago:20260228T113000
DTSTAMP:20260423T162055
CREATED:20260221T173028Z
LAST-MODIFIED:20260221T173028Z
UID:33492-1772272800-1772278200@womenagainstmilitarymadness.org
SUMMARY:MEPN February Forum
DESCRIPTION:Saturday\, February 28 on Zoom  10:00am – 11:30am CT\nProfessor Amahl Bishara:\n“Against Fragmentation: Palestinian Practices\nof Connection to Confront Erasure—\nand How They Inspire Solidarity in the US Today” \nDespite closure\, economic deprivation\, and political threat\, Palestinians in a refugee camp in the West Bank have insisted on staying connected with friends\, colleagues and kin in Gaza\, and on supporting each other. Witnessing and understanding these brave practices of connectedness can inspire practices of solidarity and support in the United States today. \nAbout the Presenter:\nDr. Amahl Bishara is Professor\, Anthropology and Professor\, Studies in Race\, Colonialism\, and Diaspora at Tufts University. Her interests are media\, journalism\, the Middle East\, expressivity\, human rights\, knowledge production\, democracy\, and ethnography of place. Dr. Bishara’s research revolves around expression\, space\, media\, and settler colonialism. She is presently working on a project that examines Palestinian popular politics in a West Bank refugee camp. It examines how Palestinians in this refugee camp strive to resist three authorities: the Israeli occupation\, the Palestinian Authority administration\, and the United Nations Relief Works Agency\, through struggles over land\, water\, bodies\, and expression. \nThis Zoom webinar is free and open to the public\, but registration is required. \nWhile many of our monthly webinars are recorded\, this one will not be recorded. \n\n\n	Related
URL:https://womenagainstmilitarymadness.org/events/mepn-february-forum/
LOCATION:Online Event
CATEGORIES:Featured Events,Upcoming Events
ATTACH;FMTTYPE=image/webp:https://womenagainstmilitarymadness.org/wp-content/uploads/2026/02/MEPN-Forum.webp
ORGANIZER;CN="Middle East Peace Now":MAILTO:mepn@mepn.org
END:VEVENT
END:VCALENDAR