BEGIN:VCALENDAR
VERSION:2.0
PRODID:-//Women Against Military Madness - ECPv6.15.20//NONSGML v1.0//EN
CALSCALE:GREGORIAN
METHOD:PUBLISH
X-WR-CALNAME:Women Against Military Madness
X-ORIGINAL-URL:https://womenagainstmilitarymadness.org
X-WR-CALDESC:Events for Women Against Military Madness
REFRESH-INTERVAL;VALUE=DURATION:PT1H
X-Robots-Tag:noindex
X-PUBLISHED-TTL:PT1H
BEGIN:VTIMEZONE
TZID:America/Chicago
BEGIN:DAYLIGHT
TZOFFSETFROM:-0600
TZOFFSETTO:-0500
TZNAME:CDT
DTSTART:20250309T080000
END:DAYLIGHT
BEGIN:STANDARD
TZOFFSETFROM:-0500
TZOFFSETTO:-0600
TZNAME:CST
DTSTART:20251102T070000
END:STANDARD
BEGIN:DAYLIGHT
TZOFFSETFROM:-0600
TZOFFSETTO:-0500
TZNAME:CDT
DTSTART:20260308T080000
END:DAYLIGHT
BEGIN:STANDARD
TZOFFSETFROM:-0500
TZOFFSETTO:-0600
TZNAME:CST
DTSTART:20261101T070000
END:STANDARD
BEGIN:DAYLIGHT
TZOFFSETFROM:-0600
TZOFFSETTO:-0500
TZNAME:CDT
DTSTART:20270314T080000
END:DAYLIGHT
BEGIN:STANDARD
TZOFFSETFROM:-0500
TZOFFSETTO:-0600
TZNAME:CST
DTSTART:20271107T070000
END:STANDARD
END:VTIMEZONE
BEGIN:VEVENT
DTSTART;TZID=America/Chicago:20260124T130000
DTEND;TZID=America/Chicago:20260124T150000
DTSTAMP:20260423T192056
CREATED:20260114T004311Z
LAST-MODIFIED:20260114T004311Z
UID:33379-1769259600-1769266800@womenagainstmilitarymadness.org
SUMMARY:Middle East Peace Now In-Person Forum
DESCRIPTION:Saturday\, January 24\, 1:00-3:00pm (snacks provided by Mediterranean Cruise) LOCATION: Gloria Dei Lutheran Church\n700 Snelling Avenue South\nSt. Paul\, MN 55116 \nPALESTINIAN PRESENTER:\nIssam Morris \nIssam Morris will describe his experiences as a refugee in Lebanon and his journey to America. Issam is a Palestinian American who currently lives and works in Colorado in the IT industry. He began his child life in a refugee camp outside the city of Tyre in southern Lebanon. At the age of eight\, he moved with his family to Sabra\, outside Beirut. He lived through the Israeli invasion of Lebanon in 1982 and witnessed first-hand the massacre of Sabra and Chatila. Issam left his family in Lebanon in 1983 at the age of thirteen and moved to Cyprus with the help of a British Doctor. In 1994 he graduated from London University in England with a degree in Chemical Engineering. For the last 30 years he has resided with his family in Colorado. \nRSVP by January 16\, 2026.\nPlease forward this invitation to others. \n\nOrganized by Middle east Peace Now\, sponsored by WAMM Middle East Committee\n\n\n	Related
URL:https://womenagainstmilitarymadness.org/events/middle-east-peace-now-in-person-forum/
LOCATION:Gloria Dei Lutheran Church\, 700 Snelling Ave S\, St Paul\, MN\, 55116\, United States
CATEGORIES:Featured Events,Upcoming Events
ORGANIZER;CN="Middle East Peace Now":MAILTO:mepn@mepn.org
END:VEVENT
END:VCALENDAR