BEGIN:VCALENDAR
VERSION:2.0
PRODID:-//Women Against Military Madness - ECPv6.15.20//NONSGML v1.0//EN
CALSCALE:GREGORIAN
METHOD:PUBLISH
X-WR-CALNAME:Women Against Military Madness
X-ORIGINAL-URL:https://womenagainstmilitarymadness.org
X-WR-CALDESC:Events for Women Against Military Madness
REFRESH-INTERVAL;VALUE=DURATION:PT1H
X-Robots-Tag:noindex
X-PUBLISHED-TTL:PT1H
BEGIN:VTIMEZONE
TZID:America/Chicago
BEGIN:DAYLIGHT
TZOFFSETFROM:-0600
TZOFFSETTO:-0500
TZNAME:CDT
DTSTART:20250309T080000
END:DAYLIGHT
BEGIN:STANDARD
TZOFFSETFROM:-0500
TZOFFSETTO:-0600
TZNAME:CST
DTSTART:20251102T070000
END:STANDARD
BEGIN:DAYLIGHT
TZOFFSETFROM:-0600
TZOFFSETTO:-0500
TZNAME:CDT
DTSTART:20260308T080000
END:DAYLIGHT
BEGIN:STANDARD
TZOFFSETFROM:-0500
TZOFFSETTO:-0600
TZNAME:CST
DTSTART:20261101T070000
END:STANDARD
BEGIN:DAYLIGHT
TZOFFSETFROM:-0600
TZOFFSETTO:-0500
TZNAME:CDT
DTSTART:20270314T080000
END:DAYLIGHT
BEGIN:STANDARD
TZOFFSETFROM:-0500
TZOFFSETTO:-0600
TZNAME:CST
DTSTART:20271107T070000
END:STANDARD
END:VTIMEZONE
BEGIN:VEVENT
DTSTART;TZID=America/Chicago:20260118T120000
DTEND;TZID=America/Chicago:20260118T150000
DTSTAMP:20260425T123021
CREATED:20241220T211149Z
LAST-MODIFIED:20241220T211149Z
UID:29147-1768737600-1768748400@womenagainstmilitarymadness.org
SUMMARY:Middle East Peace Now Potluck
DESCRIPTION:Saturday\, January 18\, 2025\, 12:00 – 3:00 PM\, Gloria Dei Lutheran Church\, 700 Snelling Avenue South\, St. Paul\, MN 55116 \nSave the date! Join us for the latest news from Middle East Peace Now. Watch your email for further details and in-person registration info! \nPlease contact mepn@mepn.org with any questions. Organized by Middle East Peace Now\, sponsored by WAMM. \n\n\n	Related
URL:https://womenagainstmilitarymadness.org/events/middle-east-peace-now-potluck/
LOCATION:Gloria Dei Lutheran Church\, 700 Snelling Ave S\, St Paul\, MN\, 55116\, United States
CATEGORIES:Featured Events,Sponsored Events,Upcoming Events
ATTACH;FMTTYPE=image/png:https://womenagainstmilitarymadness.org/wp-content/uploads/2023/10/bd4f6101-0d06-4da4-935f-c6a64218002b.png
ORGANIZER;CN="Middle East Peace Now":MAILTO:mepn@mepn.org
END:VEVENT
END:VCALENDAR