BEGIN:VCALENDAR
VERSION:2.0
PRODID:-//Women Against Military Madness - ECPv6.15.20//NONSGML v1.0//EN
CALSCALE:GREGORIAN
METHOD:PUBLISH
X-WR-CALNAME:Women Against Military Madness
X-ORIGINAL-URL:https://womenagainstmilitarymadness.org
X-WR-CALDESC:Events for Women Against Military Madness
REFRESH-INTERVAL;VALUE=DURATION:PT1H
X-Robots-Tag:noindex
X-PUBLISHED-TTL:PT1H
BEGIN:VTIMEZONE
TZID:America/Chicago
BEGIN:DAYLIGHT
TZOFFSETFROM:-0600
TZOFFSETTO:-0500
TZNAME:CDT
DTSTART:20240310T080000
END:DAYLIGHT
BEGIN:STANDARD
TZOFFSETFROM:-0500
TZOFFSETTO:-0600
TZNAME:CST
DTSTART:20241103T070000
END:STANDARD
BEGIN:DAYLIGHT
TZOFFSETFROM:-0600
TZOFFSETTO:-0500
TZNAME:CDT
DTSTART:20250309T080000
END:DAYLIGHT
BEGIN:STANDARD
TZOFFSETFROM:-0500
TZOFFSETTO:-0600
TZNAME:CST
DTSTART:20251102T070000
END:STANDARD
BEGIN:DAYLIGHT
TZOFFSETFROM:-0600
TZOFFSETTO:-0500
TZNAME:CDT
DTSTART:20260308T080000
END:DAYLIGHT
BEGIN:STANDARD
TZOFFSETFROM:-0500
TZOFFSETTO:-0600
TZNAME:CST
DTSTART:20261101T070000
END:STANDARD
END:VTIMEZONE
BEGIN:VEVENT
DTSTART;TZID=America/Chicago:20250915T100000
DTEND;TZID=America/Chicago:20250915T113000
DTSTAMP:20260423T220859
CREATED:20230824T170206Z
LAST-MODIFIED:20230824T171708Z
UID:25657-1757930400-1757935800@womenagainstmilitarymadness.org
SUMMARY:Middle East Peace Now September Forum
DESCRIPTION:Saturday\, September 16\, 2023\, 10:00 – 11:30 a.m. \nOnline event\, clink link here to register \nCo-sponsored event sponsored by Middle East Peace Now (MEPN). \nUS Policy Toward Israel At a Turning Point\, with Mitchell Plitnick\, President\, ReThinking Foreign Policy\nThe perception of Israel in the United States\, in virtually every corner except the halls of Congress\, has undergone a radical transformation in 2023. Ongoing and escalating violence by settlers\, while not new\, has reached unprecedented heights and the involvement of Israeli military and security forces in those attacks has gotten more exposure than ever before. Israel’s own radically right-wing government has escalated military attacks as well\, with the attack on Jenin in June highlighting a growing understanding that Israel is\, at best\, disregarding Palestinian lives. Yet despite Israel’s escalating violence and its de facto annexation of much of the West Bank\, mainstream congressional Democrats have doubled down on their support for Israel while the Biden administration has accelerated efforts to broker a normalization agreement between Israel and Saudi Arabia. I will discuss the implications of all of these factors and how they are connected.Mitchell Plitnick\, a political analyst and writer\, is the president of ReThinking Foreign Policy.  He is the author\, with Marc Lamont Hill\, of Except for Palestine: The Limits of Progressive Politics. Mitchell’s previous positions include vice president at the Foundation for Middle East Peace\, Director of the US Office of B’Tselem: The Israeli Information Center for Human Rights in the Occupied Territories\, and Co-Director of Jewish Voice for Peace. His writing has appeared in Ha’aretz\, the New Republic\, Mondoweiss\, Responsible Statecraft\, The New Arab\, Middle East Report\, LobeLog\, the San Francisco Chronicle\, +972 Magazine\, and other outlets. He has spoken all over the country on Middle East politics and has regularly offered commentary in a wide range of radio and television outlets including PBS News Hour\, the O’Reilly Factor\, i24 (Israel)\, Pacifica Radio\, CNBC Asia and others. Plitnick graduated with honors from UC Berkeley in Middle Eastern Studies and wrote his thesis on Israeli and Jewish historiography. He earned his Masters Degree from the University of Maryland\, College Park’s School of Public Policy. You can find him on Twitter @MJPlitnick.Thank you to our forum sponsors\, Northfielders for Justice in Palestine/Israel\, Women Against Military MadnessPlease email mepn@mepn.org with any questions. \n\n\n	Related
URL:https://womenagainstmilitarymadness.org/events/middle-east-peace-now-september-forum/
CATEGORIES:Featured Events,Sponsored Events,Upcoming Events
ATTACH;FMTTYPE=image/jpeg:https://womenagainstmilitarymadness.org/wp-content/uploads/2023/08/Me45.jpg
ORGANIZER;CN="Middle East Peace Now":MAILTO:mepn@mepn.org
END:VEVENT
END:VCALENDAR