BEGIN:VCALENDAR
VERSION:2.0
PRODID:-//Women Against Military Madness - ECPv6.15.20//NONSGML v1.0//EN
CALSCALE:GREGORIAN
METHOD:PUBLISH
X-WR-CALNAME:Women Against Military Madness
X-ORIGINAL-URL:https://womenagainstmilitarymadness.org
X-WR-CALDESC:Events for Women Against Military Madness
REFRESH-INTERVAL;VALUE=DURATION:PT1H
X-Robots-Tag:noindex
X-PUBLISHED-TTL:PT1H
BEGIN:VTIMEZONE
TZID:America/Chicago
BEGIN:DAYLIGHT
TZOFFSETFROM:-0600
TZOFFSETTO:-0500
TZNAME:CDT
DTSTART:20250309T080000
END:DAYLIGHT
BEGIN:STANDARD
TZOFFSETFROM:-0500
TZOFFSETTO:-0600
TZNAME:CST
DTSTART:20251102T070000
END:STANDARD
BEGIN:DAYLIGHT
TZOFFSETFROM:-0600
TZOFFSETTO:-0500
TZNAME:CDT
DTSTART:20260308T080000
END:DAYLIGHT
BEGIN:STANDARD
TZOFFSETFROM:-0500
TZOFFSETTO:-0600
TZNAME:CST
DTSTART:20261101T070000
END:STANDARD
BEGIN:DAYLIGHT
TZOFFSETFROM:-0600
TZOFFSETTO:-0500
TZNAME:CDT
DTSTART:20270314T080000
END:DAYLIGHT
BEGIN:STANDARD
TZOFFSETFROM:-0500
TZOFFSETTO:-0600
TZNAME:CST
DTSTART:20271107T070000
END:STANDARD
END:VTIMEZONE
BEGIN:VEVENT
DTSTART;TZID=America/Chicago:20260224T100000
DTEND;TZID=America/Chicago:20260224T113000
DTSTAMP:20260424T012056
CREATED:20230131T192735Z
LAST-MODIFIED:20230131T192735Z
UID:24346-1771927200-1771932600@womenagainstmilitarymadness.org
SUMMARY:Neoliberal Apartheid And Imperial Policing With Andy Clarno
DESCRIPTION:SATURDAY\, FEBRUARY 25\, 2023 AT 10 AM – 11:30 AM\nOnline Event\nhttps://us02web.zoom.us/…/reg…/WN_Q46038RMTUiSLbI5CuwRrg\n\nAs apartheid becomes a popular framework for analyzing Palestine/Israel today\, a look at the limits of liberation in “post-apartheid” South Africa challenges us rethink the definition of what apartheid is and when it ends. Against the dominant definition of apartheid\, the radical wing of the South African liberation movement offered an alternative understanding of apartheid as a system of racial capitalism. Rethinking apartheid with this lens helps us understand extreme inequality\, racialized poverty\, and militarized policing in South Africa\, Palestine/Israel\, and the United States today. Because neoliberal apartheid regimes are highly unstable social formations\, policing becomes ever more essential to the maintenance of social order. Professor Clarno analyzes the policing in Johannesburg\, Jerusalem\, and Chicago by tracing the circulation of knowledge and technology through networks of private and state security forces that coordinate to protect the powerful by policing the racialized poor.\n\nAndy Clarno is associate professor of Sociology and Black Studies and coordinator of the Policing in Chicago Research Group at the University of Illinois at Chicago. He is the author of Neoliberal Apartheid: Palestine/Israel and South Africa after 1994 (University of Chicago Press 2017).\nPlease direct questions about this event to mepn@mepn.org.\n\nThank you to our forum sponsors\, Northfielders for Justice in Palestine and Israel\n\n\n	Related
URL:https://womenagainstmilitarymadness.org/events/neoliberal-apartheid-and-imperial-policing-with-andy-clarno/
LOCATION:Online Event
CATEGORIES:Featured Events,Upcoming Events
ATTACH;FMTTYPE=image/png:https://womenagainstmilitarymadness.org/wp-content/uploads/2023/01/Screenshot-2023-01-31-at-1.15.50-PM.png
ORGANIZER;CN="Middle East Peace Now":MAILTO:mepn@mepn.org
END:VEVENT
END:VCALENDAR