BEGIN:VCALENDAR
VERSION:2.0
PRODID:-//Women Against Military Madness - ECPv6.15.20//NONSGML v1.0//EN
CALSCALE:GREGORIAN
METHOD:PUBLISH
X-WR-CALNAME:Women Against Military Madness
X-ORIGINAL-URL:https://womenagainstmilitarymadness.org
X-WR-CALDESC:Events for Women Against Military Madness
REFRESH-INTERVAL;VALUE=DURATION:PT1H
X-Robots-Tag:noindex
X-PUBLISHED-TTL:PT1H
BEGIN:VTIMEZONE
TZID:America/Chicago
BEGIN:DAYLIGHT
TZOFFSETFROM:-0600
TZOFFSETTO:-0500
TZNAME:CDT
DTSTART:20240310T080000
END:DAYLIGHT
BEGIN:STANDARD
TZOFFSETFROM:-0500
TZOFFSETTO:-0600
TZNAME:CST
DTSTART:20241103T070000
END:STANDARD
BEGIN:DAYLIGHT
TZOFFSETFROM:-0600
TZOFFSETTO:-0500
TZNAME:CDT
DTSTART:20250309T080000
END:DAYLIGHT
BEGIN:STANDARD
TZOFFSETFROM:-0500
TZOFFSETTO:-0600
TZNAME:CST
DTSTART:20251102T070000
END:STANDARD
BEGIN:DAYLIGHT
TZOFFSETFROM:-0600
TZOFFSETTO:-0500
TZNAME:CDT
DTSTART:20260308T080000
END:DAYLIGHT
BEGIN:STANDARD
TZOFFSETFROM:-0500
TZOFFSETTO:-0600
TZNAME:CST
DTSTART:20261101T070000
END:STANDARD
END:VTIMEZONE
BEGIN:VEVENT
DTSTART;TZID=America/Chicago:20251220T153000
DTEND;TZID=America/Chicago:20251220T170000
DTSTAMP:20260423T162002
CREATED:20251218T234939Z
LAST-MODIFIED:20251218T234939Z
UID:33271-1766244600-1766250000@womenagainstmilitarymadness.org
SUMMARY:No Peace on Earth While Bethlehem is Under Fire! Protest
DESCRIPTION:Saturday\, December 20\, 2025\, 3:30 PM\, Orchestra Hall\, 11th + Nicollet\, Minneapolis \n 11th & Nicollet (outside Orchestra Hall in Minneapolis)\n3:30 p.m. Chants\, 4:00 p.m. Program! \nJoin the Minnesota Peace Action Coalition on Saturday\, December 20 at 3:30 p.m. outside Orchestra Hall in Minneapolis to say NO PEACE ON EARTH WHILE BETHLEHEM IS UNDER FIRE!  \nIn recent days Israeli forces have increased raids and arrests of Palestinians in the illegally occupied territories near Bethlehem. Settlers have stormed farms near Umm Safa village\, northwest of Ramallah; they’ve released livestock and raised Israeli flags. In the northern Jordan Valley\, settlers cut water pipelines. All while Israel has broken the “ceasefire” nearly 600 times in Gaza. We call for an end to the Israeli occupation and complete divestment from Israel! \nOrganized by the MN Peace Action Coalition \n\n\n	Related
URL:https://womenagainstmilitarymadness.org/events/no-peace-on-earth-while-bethlehem-is-under-fire-protest/
LOCATION:11th & Nicollet\, Minneapolis
CATEGORIES:Featured Events,Upcoming Events
ATTACH;FMTTYPE=image/webp:https://womenagainstmilitarymadness.org/wp-content/uploads/2025/12/NPOE.webp
END:VEVENT
END:VCALENDAR