BEGIN:VCALENDAR
VERSION:2.0
PRODID:-//Women Against Military Madness - ECPv6.15.20//NONSGML v1.0//EN
CALSCALE:GREGORIAN
METHOD:PUBLISH
X-WR-CALNAME:Women Against Military Madness
X-ORIGINAL-URL:https://womenagainstmilitarymadness.org
X-WR-CALDESC:Events for Women Against Military Madness
REFRESH-INTERVAL;VALUE=DURATION:PT1H
X-Robots-Tag:noindex
X-PUBLISHED-TTL:PT1H
BEGIN:VTIMEZONE
TZID:America/Chicago
BEGIN:DAYLIGHT
TZOFFSETFROM:-0600
TZOFFSETTO:-0500
TZNAME:CDT
DTSTART:20240310T080000
END:DAYLIGHT
BEGIN:STANDARD
TZOFFSETFROM:-0500
TZOFFSETTO:-0600
TZNAME:CST
DTSTART:20241103T070000
END:STANDARD
BEGIN:DAYLIGHT
TZOFFSETFROM:-0600
TZOFFSETTO:-0500
TZNAME:CDT
DTSTART:20250309T080000
END:DAYLIGHT
BEGIN:STANDARD
TZOFFSETFROM:-0500
TZOFFSETTO:-0600
TZNAME:CST
DTSTART:20251102T070000
END:STANDARD
BEGIN:DAYLIGHT
TZOFFSETFROM:-0600
TZOFFSETTO:-0500
TZNAME:CDT
DTSTART:20260308T080000
END:DAYLIGHT
BEGIN:STANDARD
TZOFFSETFROM:-0500
TZOFFSETTO:-0600
TZNAME:CST
DTSTART:20261101T070000
END:STANDARD
END:VTIMEZONE
BEGIN:VEVENT
DTSTART;TZID=America/Chicago:20250830T110000
DTEND;TZID=America/Chicago:20250830T133000
DTSTAMP:20260423T191957
CREATED:20250819T205132Z
LAST-MODIFIED:20250819T205132Z
UID:30747-1756551600-1756560600@womenagainstmilitarymadness.org
SUMMARY:NOT FAIR: Stop Taking Cheap Shots! Protest & March
DESCRIPTION:Saturday\, August 30\, 2025\, 11 AM – 1:30 PM\, Hamline Park\, 1564 Lafond Ave\, St Paul\, MN \n  \nEnough is enough. Join us in a loud\, peaceful stand against corruption\, racism\, and the evil\, money-hungry politics-for-profit machine that is destroying lives\, warping our future\, and destroying the environment. \nWe’re calling out Donald Trump\, DOGE\, ICE\, elected and appointed government officials\, Project 2025\, and toxic media forces working together to fuel hate and strip away our rights. Their racism\, corruption\, and recklessness are destroying families\, harming children\, killing jobs\, eroding human rights\, dismantling legal protections\, tearing apart communities\, crushing opportunities\, endangering safety\, silencing voices\, and dismantling the very freedoms they claim to defend.This protest is a demand for accountability\, fairness\, and a future built on inclusiveness\, compassion\, equality\, and respect for all people and all living beings on this planet. Bring your signs\, your voices\, and your determination to show that all are welcome—and we deserve better! \n  \nOrganized by Black Lives Matter – Twin Cities Metro\, endorsed by WAMM and the People’s Action Coalition Against Trump (PACAT) \n\n\n	Related
URL:https://womenagainstmilitarymadness.org/events/not-fair-stop-taking-cheap-shots-protest-march/
LOCATION:Hamline Park\, 1563 Lafond Ave\, St. Paul\, Minnesota
CATEGORIES:Sponsored Events,Upcoming Events
ATTACH;FMTTYPE=image/webp:https://womenagainstmilitarymadness.org/wp-content/uploads/2025/08/notfair.webp
END:VEVENT
END:VCALENDAR