BEGIN:VCALENDAR
VERSION:2.0
PRODID:-//Women Against Military Madness - ECPv6.15.20//NONSGML v1.0//EN
CALSCALE:GREGORIAN
METHOD:PUBLISH
X-WR-CALNAME:Women Against Military Madness
X-ORIGINAL-URL:https://womenagainstmilitarymadness.org
X-WR-CALDESC:Events for Women Against Military Madness
REFRESH-INTERVAL;VALUE=DURATION:PT1H
X-Robots-Tag:noindex
X-PUBLISHED-TTL:PT1H
BEGIN:VTIMEZONE
TZID:America/Chicago
BEGIN:DAYLIGHT
TZOFFSETFROM:-0600
TZOFFSETTO:-0500
TZNAME:CDT
DTSTART:20210314T080000
END:DAYLIGHT
BEGIN:STANDARD
TZOFFSETFROM:-0500
TZOFFSETTO:-0600
TZNAME:CST
DTSTART:20211107T070000
END:STANDARD
BEGIN:DAYLIGHT
TZOFFSETFROM:-0600
TZOFFSETTO:-0500
TZNAME:CDT
DTSTART:20220313T080000
END:DAYLIGHT
BEGIN:STANDARD
TZOFFSETFROM:-0500
TZOFFSETTO:-0600
TZNAME:CST
DTSTART:20221106T070000
END:STANDARD
BEGIN:DAYLIGHT
TZOFFSETFROM:-0600
TZOFFSETTO:-0500
TZNAME:CDT
DTSTART:20230312T080000
END:DAYLIGHT
BEGIN:STANDARD
TZOFFSETFROM:-0500
TZOFFSETTO:-0600
TZNAME:CST
DTSTART:20231105T070000
END:STANDARD
END:VTIMEZONE
BEGIN:VEVENT
DTSTART;TZID=America/Chicago:20220710T113000
DTEND;TZID=America/Chicago:20220710T160000
DTSTAMP:20260423T191745
CREATED:20220620T173740Z
LAST-MODIFIED:20220620T181607Z
UID:22777-1657452600-1657468800@womenagainstmilitarymadness.org
SUMMARY:WAMM at Open Streets on Franklin Ave
DESCRIPTION:Open Streets Franklin\nSunday\, July 10th 11am – 4:30pm\n\nDuring these free\, family-friendly events\, local nonprofit Our Streets Minneapolis partners with the City of Minneapolis to temporarily close major thoroughfares to car traffic\, opening them to people biking\, walking\, rolling\, and connecting with neighbors and local businesses. \nThis Sundays event will take place on Franklin Ave. between Portland Ave S and 26th Ave S.  We will be assigned our spot soon. \n\nJoin WAMM in our effort to do outreach to grow the anti-war movement! We’ll be hanging out with the Anti-War Committee and Veterans for Peace Chapter 27. Feel free to stop by if you’re there and get some literature\, buttons\, and get a sticker! FFI: 612-827-5364.\n\n\n	Related
URL:https://womenagainstmilitarymadness.org/events/open-streets-franklin/
LOCATION:Franklin Avenue in Minneapolis\, Franklin Ave\, Minneapolis\, United States
CATEGORIES:Featured Events,Upcoming Events
ATTACH;FMTTYPE=image/png:https://womenagainstmilitarymadness.org/wp-content/uploads/2022/06/OpenStreetsFranklin.png
ORGANIZER;CN="Women Against Military Madness":MAILTO:general@wamm.me
END:VEVENT
END:VCALENDAR