BEGIN:VCALENDAR
VERSION:2.0
PRODID:-//Women Against Military Madness - ECPv6.15.20//NONSGML v1.0//EN
CALSCALE:GREGORIAN
METHOD:PUBLISH
X-WR-CALNAME:Women Against Military Madness
X-ORIGINAL-URL:https://womenagainstmilitarymadness.org
X-WR-CALDESC:Events for Women Against Military Madness
REFRESH-INTERVAL;VALUE=DURATION:PT1H
X-Robots-Tag:noindex
X-PUBLISHED-TTL:PT1H
BEGIN:VTIMEZONE
TZID:America/Chicago
BEGIN:DAYLIGHT
TZOFFSETFROM:-0600
TZOFFSETTO:-0500
TZNAME:CDT
DTSTART:20240310T080000
END:DAYLIGHT
BEGIN:STANDARD
TZOFFSETFROM:-0500
TZOFFSETTO:-0600
TZNAME:CST
DTSTART:20241103T070000
END:STANDARD
BEGIN:DAYLIGHT
TZOFFSETFROM:-0600
TZOFFSETTO:-0500
TZNAME:CDT
DTSTART:20250309T080000
END:DAYLIGHT
BEGIN:STANDARD
TZOFFSETFROM:-0500
TZOFFSETTO:-0600
TZNAME:CST
DTSTART:20251102T070000
END:STANDARD
BEGIN:DAYLIGHT
TZOFFSETFROM:-0600
TZOFFSETTO:-0500
TZNAME:CDT
DTSTART:20260308T080000
END:DAYLIGHT
BEGIN:STANDARD
TZOFFSETFROM:-0500
TZOFFSETTO:-0600
TZNAME:CST
DTSTART:20261101T070000
END:STANDARD
END:VTIMEZONE
BEGIN:VEVENT
DTSTART;TZID=America/Chicago:20250712T110000
DTEND;TZID=America/Chicago:20250712T170000
DTSTAMP:20260423T175450
CREATED:20250708T174510Z
LAST-MODIFIED:20250710T205459Z
UID:30409-1752318000-1752339600@womenagainstmilitarymadness.org
SUMMARY:Open Streets Tabling
DESCRIPTION:Saturday\, July 12\, 2025  – 11:00am – 5:00pm:  Imagine 6th Ave N.   \nNear Olson Mem. Hwy\, intersection of Van White Memorial Blvd and N 8th Ave.  Table location – #17 in the middle of Sumner Field Park (oval grassy area)\, look for the yellow WAMM flag \nWAMM has multiple events this summer! We are putting out a call for volunteers to help staff our table and introduce WAMM to our community. Please email Fiona at admin@wamm.me if you can staff our table for 2-3 hours and hand out stickers and information. \nFFI: Our Streets events \n\n\n	Related
URL:https://womenagainstmilitarymadness.org/events/open-streets-tabling/
LOCATION:Sumner Field Park\, 901 N Aldrich Ave\, Minneapolis\, 55411\, United States
CATEGORIES:Featured Events,Upcoming Events
ATTACH;FMTTYPE=image/webp:https://womenagainstmilitarymadness.org/wp-content/uploads/2025/05/WAMM-Favicon.webp
END:VEVENT
END:VCALENDAR