BEGIN:VCALENDAR
VERSION:2.0
PRODID:-//Women Against Military Madness - ECPv6.15.20//NONSGML v1.0//EN
CALSCALE:GREGORIAN
METHOD:PUBLISH
X-WR-CALNAME:Women Against Military Madness
X-ORIGINAL-URL:https://womenagainstmilitarymadness.org
X-WR-CALDESC:Events for Women Against Military Madness
REFRESH-INTERVAL;VALUE=DURATION:PT1H
X-Robots-Tag:noindex
X-PUBLISHED-TTL:PT1H
BEGIN:VTIMEZONE
TZID:America/Chicago
BEGIN:DAYLIGHT
TZOFFSETFROM:-0600
TZOFFSETTO:-0500
TZNAME:CDT
DTSTART:20240310T080000
END:DAYLIGHT
BEGIN:STANDARD
TZOFFSETFROM:-0500
TZOFFSETTO:-0600
TZNAME:CST
DTSTART:20241103T070000
END:STANDARD
BEGIN:DAYLIGHT
TZOFFSETFROM:-0600
TZOFFSETTO:-0500
TZNAME:CDT
DTSTART:20250309T080000
END:DAYLIGHT
BEGIN:STANDARD
TZOFFSETFROM:-0500
TZOFFSETTO:-0600
TZNAME:CST
DTSTART:20251102T070000
END:STANDARD
BEGIN:DAYLIGHT
TZOFFSETFROM:-0600
TZOFFSETTO:-0500
TZNAME:CDT
DTSTART:20260308T080000
END:DAYLIGHT
BEGIN:STANDARD
TZOFFSETFROM:-0500
TZOFFSETTO:-0600
TZNAME:CST
DTSTART:20261101T070000
END:STANDARD
END:VTIMEZONE
BEGIN:VEVENT
DTSTART;TZID=America/Chicago:20250915T110000
DTEND;TZID=America/Chicago:20250915T170000
DTSTAMP:20260423T191744
CREATED:20230913T201550Z
LAST-MODIFIED:20230913T201550Z
UID:25695-1757934000-1757955600@womenagainstmilitarymadness.org
SUMMARY:Open Streets West Broadway
DESCRIPTION:Open Streets Minneapolis\nSaturday\, September 16\, 2023\n11:00 am – 5:00 pm\nWest Broadway Avenue from Penn Ave N to Lyndale Ave N –\nOur booth will be located at the intersection of: N Logan Ave & W Broadway Ave\, in front of the YMCA\n\nThis event is FREE to attend. Walk\, bike\, roll and stroll through car-free city streets\, while enjoying entertainment\, programming and vendors for an activity-packed day of neighborhood fun.\n\nIf you can join us to staff WAMM’s table\, please call or email the office at 612-827-5364 or admin@wamm.me.\n\nJoin WAMM in our effort to do outreach and grow the anti-war movement! Feel free to stop by if you’re there and get some literature\, buttons and get a sticker. FFI: 612-827-5364.\n\n\n	Related
URL:https://womenagainstmilitarymadness.org/events/open-streets-west-broadway/
LOCATION:West Broadway Avenue from Penn Ave N to Lyndale Ave N
CATEGORIES:Featured Events,Upcoming Events
ATTACH;FMTTYPE=image/png:https://womenagainstmilitarymadness.org/wp-content/uploads/2023/09/Open_Streets_MPLS_2023_Banners_6.png
END:VEVENT
END:VCALENDAR