BEGIN:VCALENDAR
VERSION:2.0
PRODID:-//Women Against Military Madness - ECPv6.15.20//NONSGML v1.0//EN
CALSCALE:GREGORIAN
METHOD:PUBLISH
X-WR-CALNAME:Women Against Military Madness
X-ORIGINAL-URL:https://womenagainstmilitarymadness.org
X-WR-CALDESC:Events for Women Against Military Madness
REFRESH-INTERVAL;VALUE=DURATION:PT1H
X-Robots-Tag:noindex
X-PUBLISHED-TTL:PT1H
BEGIN:VTIMEZONE
TZID:America/Chicago
BEGIN:DAYLIGHT
TZOFFSETFROM:-0600
TZOFFSETTO:-0500
TZNAME:CDT
DTSTART:20240310T080000
END:DAYLIGHT
BEGIN:STANDARD
TZOFFSETFROM:-0500
TZOFFSETTO:-0600
TZNAME:CST
DTSTART:20241103T070000
END:STANDARD
BEGIN:DAYLIGHT
TZOFFSETFROM:-0600
TZOFFSETTO:-0500
TZNAME:CDT
DTSTART:20250309T080000
END:DAYLIGHT
BEGIN:STANDARD
TZOFFSETFROM:-0500
TZOFFSETTO:-0600
TZNAME:CST
DTSTART:20251102T070000
END:STANDARD
BEGIN:DAYLIGHT
TZOFFSETFROM:-0600
TZOFFSETTO:-0500
TZNAME:CDT
DTSTART:20260308T080000
END:DAYLIGHT
BEGIN:STANDARD
TZOFFSETFROM:-0500
TZOFFSETTO:-0600
TZNAME:CST
DTSTART:20261101T070000
END:STANDARD
END:VTIMEZONE
BEGIN:VEVENT
DTSTART;TZID=America/Chicago:20251019T140000
DTEND;TZID=America/Chicago:20251019T160000
DTSTAMP:20260423T145357
CREATED:20251015T021250Z
LAST-MODIFIED:20251015T021250Z
UID:32004-1760882400-1760889600@womenagainstmilitarymadness.org
SUMMARY:PACAT Art Build
DESCRIPTION:Sunday\, October 19\, 2025\, 2 – 4 PM\, Lucy Parsons Center\, 4100 S 28th Ave\, Minneapolis \nWe need volunteers to help us make signs and banners for the PACAT protest planned for 10/25. Bring your slogan ideas\, your artistic skills\, or just a lending hand! \nOrganized by People’s Action Coalition Against Trump \n\n\n	Related
URL:https://womenagainstmilitarymadness.org/events/pacat-art-build/
LOCATION:Lucy Parsons Center\, 4100 28th Ave S\, Minneapolis\, MN\, 55407\, United States
CATEGORIES:Upcoming Events
ATTACH;FMTTYPE=image/webp:https://womenagainstmilitarymadness.org/wp-content/uploads/2025/10/unnamed9.webp
END:VEVENT
END:VCALENDAR