BEGIN:VCALENDAR
VERSION:2.0
PRODID:-//Women Against Military Madness - ECPv6.15.20//NONSGML v1.0//EN
CALSCALE:GREGORIAN
METHOD:PUBLISH
X-WR-CALNAME:Women Against Military Madness
X-ORIGINAL-URL:https://womenagainstmilitarymadness.org
X-WR-CALDESC:Events for Women Against Military Madness
REFRESH-INTERVAL;VALUE=DURATION:PT1H
X-Robots-Tag:noindex
X-PUBLISHED-TTL:PT1H
BEGIN:VTIMEZONE
TZID:America/Chicago
BEGIN:DAYLIGHT
TZOFFSETFROM:-0600
TZOFFSETTO:-0500
TZNAME:CDT
DTSTART:20240310T080000
END:DAYLIGHT
BEGIN:STANDARD
TZOFFSETFROM:-0500
TZOFFSETTO:-0600
TZNAME:CST
DTSTART:20241103T070000
END:STANDARD
BEGIN:DAYLIGHT
TZOFFSETFROM:-0600
TZOFFSETTO:-0500
TZNAME:CDT
DTSTART:20250309T080000
END:DAYLIGHT
BEGIN:STANDARD
TZOFFSETFROM:-0500
TZOFFSETTO:-0600
TZNAME:CST
DTSTART:20251102T070000
END:STANDARD
BEGIN:DAYLIGHT
TZOFFSETFROM:-0600
TZOFFSETTO:-0500
TZNAME:CDT
DTSTART:20260308T080000
END:DAYLIGHT
BEGIN:STANDARD
TZOFFSETFROM:-0500
TZOFFSETTO:-0600
TZNAME:CST
DTSTART:20261101T070000
END:STANDARD
END:VTIMEZONE
BEGIN:VEVENT
DTSTART;TZID=America/Chicago:20251119T180000
DTEND;TZID=America/Chicago:20251119T193000
DTSTAMP:20260423T205449
CREATED:20251024T230412Z
LAST-MODIFIED:20251024T230412Z
UID:32701-1763575200-1763580600@womenagainstmilitarymadness.org
SUMMARY:PACK THE BUDGET MEETING - CUT THE CONTRACT\, NO ZINCITY
DESCRIPTION:Wednesday\, November 19th\, 6:05 pm\, Minneapolis Public Service Center\, Room 350\, 250 S 4th St\, Minneapolis \n  \n\n\n	Related
URL:https://womenagainstmilitarymadness.org/events/pack-the-budget-meeting-cut-the-contract-no-zincity/
LOCATION:Minneapolis Public Service Center\, 250 S 4th St\, Minneapolis\, MN\, 55415\, United States
CATEGORIES:Featured Events,Upcoming Events
ATTACH;FMTTYPE=image/webp:https://womenagainstmilitarymadness.org/wp-content/uploads/2025/10/PackTheMeeting.webp
END:VEVENT
END:VCALENDAR