BEGIN:VCALENDAR
VERSION:2.0
PRODID:-//Women Against Military Madness - ECPv6.15.20//NONSGML v1.0//EN
CALSCALE:GREGORIAN
METHOD:PUBLISH
X-WR-CALNAME:Women Against Military Madness
X-ORIGINAL-URL:https://womenagainstmilitarymadness.org
X-WR-CALDESC:Events for Women Against Military Madness
REFRESH-INTERVAL;VALUE=DURATION:PT1H
X-Robots-Tag:noindex
X-PUBLISHED-TTL:PT1H
BEGIN:VTIMEZONE
TZID:America/Chicago
BEGIN:DAYLIGHT
TZOFFSETFROM:-0600
TZOFFSETTO:-0500
TZNAME:CDT
DTSTART:20240310T080000
END:DAYLIGHT
BEGIN:STANDARD
TZOFFSETFROM:-0500
TZOFFSETTO:-0600
TZNAME:CST
DTSTART:20241103T070000
END:STANDARD
BEGIN:DAYLIGHT
TZOFFSETFROM:-0600
TZOFFSETTO:-0500
TZNAME:CDT
DTSTART:20250309T080000
END:DAYLIGHT
BEGIN:STANDARD
TZOFFSETFROM:-0500
TZOFFSETTO:-0600
TZNAME:CST
DTSTART:20251102T070000
END:STANDARD
BEGIN:DAYLIGHT
TZOFFSETFROM:-0600
TZOFFSETTO:-0500
TZNAME:CDT
DTSTART:20260308T080000
END:DAYLIGHT
BEGIN:STANDARD
TZOFFSETFROM:-0500
TZOFFSETTO:-0600
TZNAME:CST
DTSTART:20261101T070000
END:STANDARD
END:VTIMEZONE
BEGIN:VEVENT
DTSTART;TZID=America/Chicago:20251203T123000
DTEND;TZID=America/Chicago:20251203T133000
DTSTAMP:20260425T052244
CREATED:20241111T210720Z
LAST-MODIFIED:20241111T210720Z
UID:29028-1764765000-1764768600@womenagainstmilitarymadness.org
SUMMARY:Pack the City Council Meeting!
DESCRIPTION:Tuesday\, December 3\, 2024\, 12:45 PM\, Public Service Center Room 350\, 250 S 4th St\, Minneapolis \nSupport the new Minneapolis City Council Resolution in solidarity with student activists’ right to protest for Palestine! \nOrganized by the MN Free Palestine Coalition \n\n\n	Related
URL:https://womenagainstmilitarymadness.org/events/pack-the-city-council-meeting/
LOCATION:250 S 4th St\, 250 S 4th St\, Minneapolis\, MN\, 55415\, United States
CATEGORIES:Featured Events,Sponsored Events,Upcoming Events
ATTACH;FMTTYPE=image/jpeg:https://womenagainstmilitarymadness.org/wp-content/uploads/2024/11/10469841-1332-506f-5f5e-2c80d7623e2e.jpg
END:VEVENT
END:VCALENDAR