BEGIN:VCALENDAR
VERSION:2.0
PRODID:-//Women Against Military Madness - ECPv6.15.20//NONSGML v1.0//EN
CALSCALE:GREGORIAN
METHOD:PUBLISH
X-WR-CALNAME:Women Against Military Madness
X-ORIGINAL-URL:https://womenagainstmilitarymadness.org
X-WR-CALDESC:Events for Women Against Military Madness
REFRESH-INTERVAL;VALUE=DURATION:PT1H
X-Robots-Tag:noindex
X-PUBLISHED-TTL:PT1H
BEGIN:VTIMEZONE
TZID:America/Chicago
BEGIN:DAYLIGHT
TZOFFSETFROM:-0600
TZOFFSETTO:-0500
TZNAME:CDT
DTSTART:20240310T080000
END:DAYLIGHT
BEGIN:STANDARD
TZOFFSETFROM:-0500
TZOFFSETTO:-0600
TZNAME:CST
DTSTART:20241103T070000
END:STANDARD
BEGIN:DAYLIGHT
TZOFFSETFROM:-0600
TZOFFSETTO:-0500
TZNAME:CDT
DTSTART:20250309T080000
END:DAYLIGHT
BEGIN:STANDARD
TZOFFSETFROM:-0500
TZOFFSETTO:-0600
TZNAME:CST
DTSTART:20251102T070000
END:STANDARD
BEGIN:DAYLIGHT
TZOFFSETFROM:-0600
TZOFFSETTO:-0500
TZNAME:CDT
DTSTART:20260308T080000
END:DAYLIGHT
BEGIN:STANDARD
TZOFFSETFROM:-0500
TZOFFSETTO:-0600
TZNAME:CST
DTSTART:20261101T070000
END:STANDARD
END:VTIMEZONE
BEGIN:VEVENT
DTSTART;TZID=America/Chicago:20250510T073000
DTEND;TZID=America/Chicago:20250510T093000
DTSTAMP:20260424T013448
CREATED:20240507T192417Z
LAST-MODIFIED:20240507T192417Z
UID:27410-1746862200-1746869400@womenagainstmilitarymadness.org
SUMMARY:PACK THE ROOM AT THE BOR MEETING
DESCRIPTION:Friday\, May 10\, 2024\, 7:30 am\, 200 SE Oak St\, 6th floor of McNamara Alumni Center\, Mpls\, MN\nWe are calling on the University community to come pack the room at the Board of Regents meeting this Friday at 7:30 am at McNamara to support UMN Divest as we present our divestment resolution and to hold administration accountable for their commitments to support divestment! Disclose! Divest! We will not stop! We will not rest! \n7:30 am\nFriday\, May 10th\n6th floor of McNamara Alumni Center\n200 SE Oak St\, MPLS \n#freepalestine #universityofminnesota #universityofminnesotatwincities #divest \nFollow UMN Divest Coalition’s telegram for frequent hourly updates: Click Here: t.me/UMNDIVEST \n\n\n	Related
URL:https://womenagainstmilitarymadness.org/events/pack-the-room-at-the-bor-meeting/
LOCATION:200 SE Oak St in Minneapolis\, 200 SE Oak St\, Minneapolis\, MN\, 55455\, United States
CATEGORIES:Featured Events,Sponsored Events,Upcoming Events
ATTACH;FMTTYPE=image/png:https://womenagainstmilitarymadness.org/wp-content/uploads/2024/05/Screenshot-2024-05-07-at-10.15.49 AM.png
END:VEVENT
END:VCALENDAR