BEGIN:VCALENDAR
VERSION:2.0
PRODID:-//Women Against Military Madness - ECPv6.15.20//NONSGML v1.0//EN
CALSCALE:GREGORIAN
METHOD:PUBLISH
X-WR-CALNAME:Women Against Military Madness
X-ORIGINAL-URL:https://womenagainstmilitarymadness.org
X-WR-CALDESC:Events for Women Against Military Madness
REFRESH-INTERVAL;VALUE=DURATION:PT1H
X-Robots-Tag:noindex
X-PUBLISHED-TTL:PT1H
BEGIN:VTIMEZONE
TZID:America/Chicago
BEGIN:DAYLIGHT
TZOFFSETFROM:-0600
TZOFFSETTO:-0500
TZNAME:CDT
DTSTART:20240310T080000
END:DAYLIGHT
BEGIN:STANDARD
TZOFFSETFROM:-0500
TZOFFSETTO:-0600
TZNAME:CST
DTSTART:20241103T070000
END:STANDARD
BEGIN:DAYLIGHT
TZOFFSETFROM:-0600
TZOFFSETTO:-0500
TZNAME:CDT
DTSTART:20250309T080000
END:DAYLIGHT
BEGIN:STANDARD
TZOFFSETFROM:-0500
TZOFFSETTO:-0600
TZNAME:CST
DTSTART:20251102T070000
END:STANDARD
BEGIN:DAYLIGHT
TZOFFSETFROM:-0600
TZOFFSETTO:-0500
TZNAME:CDT
DTSTART:20260308T080000
END:DAYLIGHT
BEGIN:STANDARD
TZOFFSETFROM:-0500
TZOFFSETTO:-0600
TZNAME:CST
DTSTART:20261101T070000
END:STANDARD
END:VTIMEZONE
BEGIN:VEVENT
DTSTART;TZID=America/Chicago:20250618T100000
DTEND;TZID=America/Chicago:20250618T120000
DTSTAMP:20260423T235630
CREATED:20250605T202703Z
LAST-MODIFIED:20250605T202703Z
UID:30235-1750240800-1750248000@womenagainstmilitarymadness.org
SUMMARY:Pack the Room at the MN State Board of Investment
DESCRIPTION:Wednesday\, June 18\, 2025\, 10:00 AM\, Room 1200 – MN Senate Building\, 95 University Ave W\, St. Paul\nWe won’t back down!\nCome stand with public employees as we call on the the SBI to divest public worker pensions from apartheid Israel\, weapons manufacturers\, and companies profiting from genocide in Palestine.\nAs the SBI continues their tactics of stifling voices of public workers by limiting speakers and meeting space\, we will continue to show up!\nState tax dollars shouldn’t fund apartheid and Trump’s plan to take over Gaza!\nFFI go to DivestMN.com\nInitiated by the Anti-War Committee\, sponsored by WAMM\n\n\n	Related
URL:https://womenagainstmilitarymadness.org/events/pack-the-room-at-the-mn-state-board-of-investment/
LOCATION:MN Senate Building\, 95 University Avenue W\, Saint Paul\, MN\, 55103\, United States
CATEGORIES:Featured Events,Sponsored Events,Upcoming Events
ATTACH;FMTTYPE=image/webp:https://womenagainstmilitarymadness.org/wp-content/uploads/2025/06/503991716_1171997221635649_4781394099808190823_n.webp
ORGANIZER;CN="Anti-War Committee":MAILTO:info@antiwarcommittee.org
END:VEVENT
END:VCALENDAR