BEGIN:VCALENDAR
VERSION:2.0
PRODID:-//Women Against Military Madness - ECPv6.15.20//NONSGML v1.0//EN
CALSCALE:GREGORIAN
METHOD:PUBLISH
X-WR-CALNAME:Women Against Military Madness
X-ORIGINAL-URL:https://womenagainstmilitarymadness.org
X-WR-CALDESC:Events for Women Against Military Madness
REFRESH-INTERVAL;VALUE=DURATION:PT1H
X-Robots-Tag:noindex
X-PUBLISHED-TTL:PT1H
BEGIN:VTIMEZONE
TZID:America/Chicago
BEGIN:DAYLIGHT
TZOFFSETFROM:-0600
TZOFFSETTO:-0500
TZNAME:CDT
DTSTART:20240310T080000
END:DAYLIGHT
BEGIN:STANDARD
TZOFFSETFROM:-0500
TZOFFSETTO:-0600
TZNAME:CST
DTSTART:20241103T070000
END:STANDARD
BEGIN:DAYLIGHT
TZOFFSETFROM:-0600
TZOFFSETTO:-0500
TZNAME:CDT
DTSTART:20250309T080000
END:DAYLIGHT
BEGIN:STANDARD
TZOFFSETFROM:-0500
TZOFFSETTO:-0600
TZNAME:CST
DTSTART:20251102T070000
END:STANDARD
BEGIN:DAYLIGHT
TZOFFSETFROM:-0600
TZOFFSETTO:-0500
TZNAME:CDT
DTSTART:20260308T080000
END:DAYLIGHT
BEGIN:STANDARD
TZOFFSETFROM:-0500
TZOFFSETTO:-0600
TZNAME:CST
DTSTART:20261101T070000
END:STANDARD
END:VTIMEZONE
BEGIN:VEVENT
DTSTART;TZID=America/Chicago:20250407T160000
DTEND;TZID=America/Chicago:20250407T170000
DTSTAMP:20260423T190646
CREATED:20220107T142428Z
LAST-MODIFIED:20231003T153943Z
UID:10002175-1744041600-1744045200@womenagainstmilitarymadness.org
SUMMARY:Pipeline Blues Vigil
DESCRIPTION:Every Monday from 4:00-5:00 pm.\nPipeline Blues Vigil\nMinnesota Governor’s Mansion\n1006 Summit Avenue in St. Paul 55105 \nWAMM and Veterans For Peace are sponsoring a regular “Stop Line 3!” vigil in solidarity with Water Protectors outside the Governor’s Mansion\, 1006 Summit Ave.\, St. Paul. \nAll are welcome. Bring Signs. Spread the word! \nSponsored by Women Against Military Madness\, Climate Justice Committee and Veterans for Peace Chapter 27. \nFFI: Women Against Military Madness 612-827-5364 \n\n\n\n\n\n\nSource:: https://www.facebook.com/events/2060859967439384/2060860070772707/?acontext=%7B%22event_action_history%22%3A[%7B%22surface%22%3A%22page%22%7D]%7D\n\n\nPipeline vigils began on November 8\, 2021.\n\n\n	Related
URL:https://womenagainstmilitarymadness.org/events/pipeline-blues-vigil-2022-04-25-2023-10-09/2025-04-07/
LOCATION:Minnesota Governor’s Residence\, 1006 Summit Ave\, St Paul\, Minneapolis\, MN\, United States
CATEGORIES:Recurring Events
ATTACH;FMTTYPE=image/jpeg:https://womenagainstmilitarymadness.org/wp-content/uploads/2022/01/217403433_4732681730094812_5913976419724775378_n.jpeg
ORGANIZER;CN="Women Against Military Madness":MAILTO:general@wamm.me
END:VEVENT
END:VCALENDAR