BEGIN:VCALENDAR
VERSION:2.0
PRODID:-//Women Against Military Madness - ECPv6.15.20//NONSGML v1.0//EN
CALSCALE:GREGORIAN
METHOD:PUBLISH
X-WR-CALNAME:Women Against Military Madness
X-ORIGINAL-URL:https://womenagainstmilitarymadness.org
X-WR-CALDESC:Events for Women Against Military Madness
REFRESH-INTERVAL;VALUE=DURATION:PT1H
X-Robots-Tag:noindex
X-PUBLISHED-TTL:PT1H
BEGIN:VTIMEZONE
TZID:America/Chicago
BEGIN:DAYLIGHT
TZOFFSETFROM:-0600
TZOFFSETTO:-0500
TZNAME:CDT
DTSTART:20240310T080000
END:DAYLIGHT
BEGIN:STANDARD
TZOFFSETFROM:-0500
TZOFFSETTO:-0600
TZNAME:CST
DTSTART:20241103T070000
END:STANDARD
BEGIN:DAYLIGHT
TZOFFSETFROM:-0600
TZOFFSETTO:-0500
TZNAME:CDT
DTSTART:20250309T080000
END:DAYLIGHT
BEGIN:STANDARD
TZOFFSETFROM:-0500
TZOFFSETTO:-0600
TZNAME:CST
DTSTART:20251102T070000
END:STANDARD
BEGIN:DAYLIGHT
TZOFFSETFROM:-0600
TZOFFSETTO:-0500
TZNAME:CDT
DTSTART:20260308T080000
END:DAYLIGHT
BEGIN:STANDARD
TZOFFSETFROM:-0500
TZOFFSETTO:-0600
TZNAME:CST
DTSTART:20261101T070000
END:STANDARD
END:VTIMEZONE
BEGIN:VEVENT
DTSTART;TZID=America/Chicago:20250418T150000
DTEND;TZID=America/Chicago:20250418T160000
DTSTAMP:20260425T083036
CREATED:20250417T193710Z
LAST-MODIFIED:20250417T193838Z
UID:30057-1744988400-1744992000@womenagainstmilitarymadness.org
SUMMARY:Por la Familia Cubana: Solidarity Call for the Cuban Family!
DESCRIPTION:Friday\, April 18\, 2025\, 3PM CST\, Online\, click here for ZOOM link \nLet’s turn the page on U.S. – Cuban relations. We are bringing together solidarity organizations and Congressional staff to learn about the impacts of the U.S. Blockade on the Cuban people and to understand the increasingly aggressive U.S. policies against Cuba. We will discuss possible actions that we can take to support the Cuban people as they struggle with lack of food\, medicine\, fuel\, and essential supplies. \nProgram Moderator: Simon Elliott\, Solidarity Committee on the Americas \nFeaturing:\n– Piano legend Nachito Herrera and wife/manager Aurora Gonzales testimony from their music tour of Cuba and humanitarian aid campaign\n– Yasser Ibarra\, Ist Secretary of the Cuban embassy: US sanctions effect on the Cuban people\n– Cheryl LaBash\, Co-Chair\, National Network On Cuba (NNOC): Nat’l action plan and SAVING LIVES campaign\n– Danny Valdes\, Co-chair\, Democratic Socialists of America\, International Office: Congressional Advocacy for Cuba campaign opposing the FORCE Act.\nOnline\, click here for ZOOM link\nQuestions & Answers afterward via chat.\nSponsored by the Minnesota Cuba Committee and the Solidarity Committee on the Americas \n\n\n	Related
URL:https://womenagainstmilitarymadness.org/events/por-la-familia-cubana-solidarity-call-for-the-cuban-family/
LOCATION:Online Event
CATEGORIES:Featured Events,Upcoming Events
ATTACH;FMTTYPE=image/png:https://womenagainstmilitarymadness.org/wp-content/uploads/2025/04/Screenshot-2025-04-15-at-1.40.08 PM.png
END:VEVENT
END:VCALENDAR