BEGIN:VCALENDAR
VERSION:2.0
PRODID:-//Women Against Military Madness - ECPv6.15.20//NONSGML v1.0//EN
CALSCALE:GREGORIAN
METHOD:PUBLISH
X-WR-CALNAME:Women Against Military Madness
X-ORIGINAL-URL:https://womenagainstmilitarymadness.org
X-WR-CALDESC:Events for Women Against Military Madness
REFRESH-INTERVAL;VALUE=DURATION:PT1H
X-Robots-Tag:noindex
X-PUBLISHED-TTL:PT1H
BEGIN:VTIMEZONE
TZID:America/Chicago
BEGIN:DAYLIGHT
TZOFFSETFROM:-0600
TZOFFSETTO:-0500
TZNAME:CDT
DTSTART:20240310T080000
END:DAYLIGHT
BEGIN:STANDARD
TZOFFSETFROM:-0500
TZOFFSETTO:-0600
TZNAME:CST
DTSTART:20241103T070000
END:STANDARD
BEGIN:DAYLIGHT
TZOFFSETFROM:-0600
TZOFFSETTO:-0500
TZNAME:CDT
DTSTART:20250309T080000
END:DAYLIGHT
BEGIN:STANDARD
TZOFFSETFROM:-0500
TZOFFSETTO:-0600
TZNAME:CST
DTSTART:20251102T070000
END:STANDARD
BEGIN:DAYLIGHT
TZOFFSETFROM:-0600
TZOFFSETTO:-0500
TZNAME:CDT
DTSTART:20260308T080000
END:DAYLIGHT
BEGIN:STANDARD
TZOFFSETFROM:-0500
TZOFFSETTO:-0600
TZNAME:CST
DTSTART:20261101T070000
END:STANDARD
END:VTIMEZONE
BEGIN:VEVENT
DTSTART;TZID=America/Chicago:20250713T130000
DTEND;TZID=America/Chicago:20250713T150000
DTSTAMP:20260423T162342
CREATED:20250709T172046Z
LAST-MODIFIED:20250709T172046Z
UID:30431-1752411600-1752418800@womenagainstmilitarymadness.org
SUMMARY:Protest and Rally: NO BOMBS! NO BIG BEAUTIFUL BILL!
DESCRIPTION:Sunday\, July 13\, 2025\, 1 PM\, Mayday Books Plaza\, 301 Cedar Ave\, Minneapolis\, MN \n  \nAs the Trump administration continues its attacks on the global community by threatening a war with Iran and continuing to facilitate the ongoing genocide in Palestine\, the Trump administration alongside GOP legislators have passed the “Big Beautiful Bill.” This bill is devastating for the working class\, immigrants\, women\, the lgbtq+ community\, reproductive rights\, environmental justice and more.  Join us in saying NO to these vicious attacks on our communities! \nSee y’all there 💪 \n  \nInitiated by MN Workers United\, endorsed by WAMM\, MN Peace Action Coalition\, Peoples’ Action Coalition Against Trump\, and many more \n\n\n	Related
URL:https://womenagainstmilitarymadness.org/events/protest-and-rally-no-bombs-no-big-beautiful-bill/
LOCATION:Mayday Plaza\, 301 Cedar Ave\, Minneapolis\, MN\, 55455\, United States
CATEGORIES:Featured Events,Sponsored Events,Upcoming Events
ATTACH;FMTTYPE=image/webp:https://womenagainstmilitarymadness.org/wp-content/uploads/2025/07/images.webp
ORGANIZER;CN="MN Workers United":MAILTO:mn.workersunited@gmail.com
END:VEVENT
END:VCALENDAR