BEGIN:VCALENDAR
VERSION:2.0
PRODID:-//Women Against Military Madness - ECPv6.15.20//NONSGML v1.0//EN
CALSCALE:GREGORIAN
METHOD:PUBLISH
X-WR-CALNAME:Women Against Military Madness
X-ORIGINAL-URL:https://womenagainstmilitarymadness.org
X-WR-CALDESC:Events for Women Against Military Madness
REFRESH-INTERVAL;VALUE=DURATION:PT1H
X-Robots-Tag:noindex
X-PUBLISHED-TTL:PT1H
BEGIN:VTIMEZONE
TZID:America/Chicago
BEGIN:DAYLIGHT
TZOFFSETFROM:-0600
TZOFFSETTO:-0500
TZNAME:CDT
DTSTART:20250309T080000
END:DAYLIGHT
BEGIN:STANDARD
TZOFFSETFROM:-0500
TZOFFSETTO:-0600
TZNAME:CST
DTSTART:20251102T070000
END:STANDARD
BEGIN:DAYLIGHT
TZOFFSETFROM:-0600
TZOFFSETTO:-0500
TZNAME:CDT
DTSTART:20260308T080000
END:DAYLIGHT
BEGIN:STANDARD
TZOFFSETFROM:-0500
TZOFFSETTO:-0600
TZNAME:CST
DTSTART:20261101T070000
END:STANDARD
BEGIN:DAYLIGHT
TZOFFSETFROM:-0600
TZOFFSETTO:-0500
TZNAME:CDT
DTSTART:20270314T080000
END:DAYLIGHT
BEGIN:STANDARD
TZOFFSETFROM:-0500
TZOFFSETTO:-0600
TZNAME:CST
DTSTART:20271107T070000
END:STANDARD
END:VTIMEZONE
BEGIN:VEVENT
DTSTART;TZID=America/Chicago:20260106T130000
DTEND;TZID=America/Chicago:20260106T150000
DTSTAMP:20260424T024712
CREATED:20240102T180156Z
LAST-MODIFIED:20240103T205028Z
UID:26775-1767704400-1767711600@womenagainstmilitarymadness.org
SUMMARY:Protest for Palestine
DESCRIPTION:AMY KLOBUCHAR\, STOP FUNDING GENOCIDE! \nSUNDAY\, January 7\, 2024\, 1:00 pm\, 300 S. 4th Street \nInitated by the Free Palestine Coalition\, which WAMM is a part of \nMarch on Amy Klobuchar. End the week of action initated by US Palestinian Community Network (USPCN) with a march from the Minneapolis Federal Building to Amy Klobuchar’s office! Bring signs and flags\, will be provided as well. \n\n\n	Related
URL:https://womenagainstmilitarymadness.org/events/protest-for-palestine/
LOCATION:Minneapolis Federal Building\, 300 S 4th St\, Minneapolis\, MN\, 55415\, United States
CATEGORIES:Featured Events,Sponsored Events,Upcoming Events
ATTACH;FMTTYPE=image/jpeg:https://womenagainstmilitarymadness.org/wp-content/uploads/2024/01/GCxb8D7XMAAoSIu.jpg
END:VEVENT
END:VCALENDAR