BEGIN:VCALENDAR
VERSION:2.0
PRODID:-//Women Against Military Madness - ECPv6.15.20//NONSGML v1.0//EN
CALSCALE:GREGORIAN
METHOD:PUBLISH
X-WR-CALNAME:Women Against Military Madness
X-ORIGINAL-URL:https://womenagainstmilitarymadness.org
X-WR-CALDESC:Events for Women Against Military Madness
REFRESH-INTERVAL;VALUE=DURATION:PT1H
X-Robots-Tag:noindex
X-PUBLISHED-TTL:PT1H
BEGIN:VTIMEZONE
TZID:America/Chicago
BEGIN:DAYLIGHT
TZOFFSETFROM:-0600
TZOFFSETTO:-0500
TZNAME:CDT
DTSTART:20240310T080000
END:DAYLIGHT
BEGIN:STANDARD
TZOFFSETFROM:-0500
TZOFFSETTO:-0600
TZNAME:CST
DTSTART:20241103T070000
END:STANDARD
BEGIN:DAYLIGHT
TZOFFSETFROM:-0600
TZOFFSETTO:-0500
TZNAME:CDT
DTSTART:20250309T080000
END:DAYLIGHT
BEGIN:STANDARD
TZOFFSETFROM:-0500
TZOFFSETTO:-0600
TZNAME:CST
DTSTART:20251102T070000
END:STANDARD
BEGIN:DAYLIGHT
TZOFFSETFROM:-0600
TZOFFSETTO:-0500
TZNAME:CDT
DTSTART:20260308T080000
END:DAYLIGHT
BEGIN:STANDARD
TZOFFSETFROM:-0500
TZOFFSETTO:-0600
TZNAME:CST
DTSTART:20261101T070000
END:STANDARD
END:VTIMEZONE
BEGIN:VEVENT
DTSTART;TZID=America/Chicago:20251019T130000
DTEND;TZID=America/Chicago:20251019T143000
DTSTAMP:20260423T162007
CREATED:20251010T033603Z
LAST-MODIFIED:20251010T033603Z
UID:31306-1760878800-1760884200@womenagainstmilitarymadness.org
SUMMARY:PROTEST: Shutdown AFRICOM!
DESCRIPTION:PROTEST: Shutdown AFRICOM!\nSunday\, October 19\, 2025\, 1:00 PM\, May Day Plaza\, 301 Cedar Ave\, Minneapolis \nJoin us in the street as we protest Africom (US Africa Command) and the US’s secret wars in Africa as part of 5th International Month of Action Against Africom\, a global campaign started by the @blackallianceforpeace.\nNo more drone strikes!\nNo more U.S. proxy wars!\nNo more U.S. bases on African soil! \nOrganized by Anti War Committee\, endorsed by WAMM \n\n\n	Related
URL:https://womenagainstmilitarymadness.org/events/protest-shutdown-africom/
LOCATION:301 Cedar Ave S\, Minneapolis\, MN 55454-1030\, 301 Cedar Ave S\, Minneapolis\, MN\, 55454\, United States
CATEGORIES:Upcoming Events
ATTACH;FMTTYPE=image/webp:https://womenagainstmilitarymadness.org/wp-content/uploads/2025/10/unnamed12.webp
ORGANIZER;CN="Anti-War Committee":MAILTO:info@antiwarcommittee.org
END:VEVENT
END:VCALENDAR