BEGIN:VCALENDAR
VERSION:2.0
PRODID:-//Women Against Military Madness - ECPv6.15.20//NONSGML v1.0//EN
CALSCALE:GREGORIAN
METHOD:PUBLISH
X-WR-CALNAME:Women Against Military Madness
X-ORIGINAL-URL:https://womenagainstmilitarymadness.org
X-WR-CALDESC:Events for Women Against Military Madness
REFRESH-INTERVAL;VALUE=DURATION:PT1H
X-Robots-Tag:noindex
X-PUBLISHED-TTL:PT1H
BEGIN:VTIMEZONE
TZID:America/Chicago
BEGIN:DAYLIGHT
TZOFFSETFROM:-0600
TZOFFSETTO:-0500
TZNAME:CDT
DTSTART:20240310T080000
END:DAYLIGHT
BEGIN:STANDARD
TZOFFSETFROM:-0500
TZOFFSETTO:-0600
TZNAME:CST
DTSTART:20241103T070000
END:STANDARD
BEGIN:DAYLIGHT
TZOFFSETFROM:-0600
TZOFFSETTO:-0500
TZNAME:CDT
DTSTART:20250309T080000
END:DAYLIGHT
BEGIN:STANDARD
TZOFFSETFROM:-0500
TZOFFSETTO:-0600
TZNAME:CST
DTSTART:20251102T070000
END:STANDARD
BEGIN:DAYLIGHT
TZOFFSETFROM:-0600
TZOFFSETTO:-0500
TZNAME:CDT
DTSTART:20260308T080000
END:DAYLIGHT
BEGIN:STANDARD
TZOFFSETFROM:-0500
TZOFFSETTO:-0600
TZNAME:CST
DTSTART:20261101T070000
END:STANDARD
END:VTIMEZONE
BEGIN:VEVENT
DTSTART;TZID=America/Chicago:20250712T180000
DTEND;TZID=America/Chicago:20250712T190000
DTSTAMP:20260423T192437
CREATED:20240618T200710Z
LAST-MODIFIED:20240711T222343Z
UID:27701-1752343200-1752346800@womenagainstmilitarymadness.org
SUMMARY:Report Back from International Unity Conferences
DESCRIPTION:Friday\, July 12\, 2024\, 6:00 pm\, 4200 Cedar Ave S\, Mpls\, MN \n⚠️✊ ATTENTION: NOW ON ZOOM: Link at tinyurl.com/WAMMreport\, also on our FB \n  \nHear from WAMM Delegate Cedar Larson and her report-back from three unity conferences hosted in Penang\, Malaysia! The International Women’s Alliance \, the International Festival for the People’s Rights and Struggles\, and the International League of Peoples’ Struggle (ILPS). There will be a presentation and time for Q+A. All Welcome. \nOrganized by WAMM Membership Committee \n  \n\n\n	Related
URL:https://womenagainstmilitarymadness.org/events/report-back-from-international-unity-conferences/
LOCATION:4200 Cedar Ave S\, Minneapolis MN 55407\, 4200 Cedar Ave S\, Minneapolis\, MN\, 55407\, United States
CATEGORIES:Featured Events,Sponsored Events,Upcoming Events
ATTACH;FMTTYPE=image/png:https://womenagainstmilitarymadness.org/wp-content/uploads/2024/06/wamm-delegate-report-back.png
END:VEVENT
END:VCALENDAR