BEGIN:VCALENDAR
VERSION:2.0
PRODID:-//Women Against Military Madness - ECPv6.15.20//NONSGML v1.0//EN
CALSCALE:GREGORIAN
METHOD:PUBLISH
X-WR-CALNAME:Women Against Military Madness
X-ORIGINAL-URL:https://womenagainstmilitarymadness.org
X-WR-CALDESC:Events for Women Against Military Madness
REFRESH-INTERVAL;VALUE=DURATION:PT1H
X-Robots-Tag:noindex
X-PUBLISHED-TTL:PT1H
BEGIN:VTIMEZONE
TZID:America/Chicago
BEGIN:DAYLIGHT
TZOFFSETFROM:-0600
TZOFFSETTO:-0500
TZNAME:CDT
DTSTART:20250309T080000
END:DAYLIGHT
BEGIN:STANDARD
TZOFFSETFROM:-0500
TZOFFSETTO:-0600
TZNAME:CST
DTSTART:20251102T070000
END:STANDARD
BEGIN:DAYLIGHT
TZOFFSETFROM:-0600
TZOFFSETTO:-0500
TZNAME:CDT
DTSTART:20260308T080000
END:DAYLIGHT
BEGIN:STANDARD
TZOFFSETFROM:-0500
TZOFFSETTO:-0600
TZNAME:CST
DTSTART:20261101T070000
END:STANDARD
BEGIN:DAYLIGHT
TZOFFSETFROM:-0600
TZOFFSETTO:-0500
TZNAME:CDT
DTSTART:20270314T080000
END:DAYLIGHT
BEGIN:STANDARD
TZOFFSETFROM:-0500
TZOFFSETTO:-0600
TZNAME:CST
DTSTART:20271107T070000
END:STANDARD
END:VTIMEZONE
BEGIN:VEVENT
DTSTART;TZID=America/Chicago:20260113T120000
DTEND;TZID=America/Chicago:20260113T140000
DTSTAMP:20260423T151329
CREATED:20251219T021155Z
LAST-MODIFIED:20251219T021155Z
UID:33283-1768305600-1768312800@womenagainstmilitarymadness.org
SUMMARY:Rescheduled Water Commission Meeting
DESCRIPTION:Tuesday\, January 13\, 2026\, 12 PM (11:45 AM if possible)\, St Paul City Hall\, 15 W Kellogg Blvd\, St Paul\nThe St. Paul Board of Water Commissioners has canceled its upcoming meeting— without disclosing a reason. \nOur campaign to Cut the Waterfall Contract has been building momentum\, and we KNOW that the Board is feeling the pressure! Minnesotans are learning that their water supply is overseen by an Israeli cybersecurity company\, and they are not willing to be complicit in Israel’s ongoing genocidal war crimes against the Palestinian people. \nIt is possible that the Board thinks that it can evade public scrutiny by canceling its December meeting. If that is the case\, it’s our job to prove that the only way for the Board to relieve public pressure is to CUT THE CONTRACT WITH WATERFALL! \nThat’s why we ask you to help us build the momentum further and PACK THE ROOM at St. Paul’s City Hall Tuesday\, January 13th\, 12:00pm (arrive at 11:45am if possible)! Organized by WAMM Palestine Solidarity Committee \n  \n\n\n	Related
URL:https://womenagainstmilitarymadness.org/events/rescheduled-water-commission-meeting/
LOCATION:St Paul City Hall\, 15 Kellogg Blvd\, St Paul\, MN\, 55102\, United States
CATEGORIES:Featured Events,Upcoming Events
ATTACH;FMTTYPE=image/webp:https://womenagainstmilitarymadness.org/wp-content/uploads/2025/12/Cuttieswaterfall.webp
END:VEVENT
END:VCALENDAR