BEGIN:VCALENDAR
VERSION:2.0
PRODID:-//Women Against Military Madness - ECPv6.15.20//NONSGML v1.0//EN
CALSCALE:GREGORIAN
METHOD:PUBLISH
X-WR-CALNAME:Women Against Military Madness
X-ORIGINAL-URL:https://womenagainstmilitarymadness.org
X-WR-CALDESC:Events for Women Against Military Madness
REFRESH-INTERVAL;VALUE=DURATION:PT1H
X-Robots-Tag:noindex
X-PUBLISHED-TTL:PT1H
BEGIN:VTIMEZONE
TZID:America/Chicago
BEGIN:DAYLIGHT
TZOFFSETFROM:-0600
TZOFFSETTO:-0500
TZNAME:CDT
DTSTART:20240310T080000
END:DAYLIGHT
BEGIN:STANDARD
TZOFFSETFROM:-0500
TZOFFSETTO:-0600
TZNAME:CST
DTSTART:20241103T070000
END:STANDARD
BEGIN:DAYLIGHT
TZOFFSETFROM:-0600
TZOFFSETTO:-0500
TZNAME:CDT
DTSTART:20250309T080000
END:DAYLIGHT
BEGIN:STANDARD
TZOFFSETFROM:-0500
TZOFFSETTO:-0600
TZNAME:CST
DTSTART:20251102T070000
END:STANDARD
BEGIN:DAYLIGHT
TZOFFSETFROM:-0600
TZOFFSETTO:-0500
TZNAME:CDT
DTSTART:20260308T080000
END:DAYLIGHT
BEGIN:STANDARD
TZOFFSETFROM:-0500
TZOFFSETTO:-0600
TZNAME:CST
DTSTART:20261101T070000
END:STANDARD
END:VTIMEZONE
BEGIN:VEVENT
DTSTART;TZID=America/Chicago:20250726T183000
DTEND;TZID=America/Chicago:20250726T213000
DTSTAMP:20260423T235435
CREATED:20240717T165408Z
LAST-MODIFIED:20240717T165408Z
UID:28015-1753554600-1753565400@womenagainstmilitarymadness.org
SUMMARY:Resilient Smiles Film Screening & Director Q+A
DESCRIPTION:The Minnesota chapter of American Muslims for Palestine (@amp_mn) and the UMN Educators for Justice in Palestine (UMN EJP) invite you to join us on Friday\, July 26th for a film screening followed by poetry performances to raise awareness about Palestinian refugees. “Resilient Smiles\,” a 2024 documentary\, explores the conditions of Palestinian refugees in Lebanon through intimate interviews and raw footage of the camps. There will be a Q&A with the film director. \n$10 per ticket! Register here: bit.ly/AMPFilm \n📆 Friday\, July 26th. \n⏰ 6:30 pm to 9:15 pm (film starts at 7:00 pm). \n📍Rapson Hall\, University of Minnesota | 89 Church Street SE\, Minneapolis\, MN 55455 \n\n\n	Related
URL:https://womenagainstmilitarymadness.org/events/resilient-smiles-film-screening-director-qa/
LOCATION:Rapson Hall\, 89 Church Street SE\, Minneapolis\, MN\, 55455\, United States
CATEGORIES:Featured Events,Sponsored Events,Upcoming Events
ATTACH;FMTTYPE=image/jpeg:https://womenagainstmilitarymadness.org/wp-content/uploads/2024/07/449840213_516771734018589_8096304578943613558_n.jpg
END:VEVENT
END:VCALENDAR