BEGIN:VCALENDAR
VERSION:2.0
PRODID:-//Women Against Military Madness - ECPv6.15.20//NONSGML v1.0//EN
CALSCALE:GREGORIAN
METHOD:PUBLISH
X-WR-CALNAME:Women Against Military Madness
X-ORIGINAL-URL:https://womenagainstmilitarymadness.org
X-WR-CALDESC:Events for Women Against Military Madness
REFRESH-INTERVAL;VALUE=DURATION:PT1H
X-Robots-Tag:noindex
X-PUBLISHED-TTL:PT1H
BEGIN:VTIMEZONE
TZID:America/Chicago
BEGIN:DAYLIGHT
TZOFFSETFROM:-0600
TZOFFSETTO:-0500
TZNAME:CDT
DTSTART:20240310T080000
END:DAYLIGHT
BEGIN:STANDARD
TZOFFSETFROM:-0500
TZOFFSETTO:-0600
TZNAME:CST
DTSTART:20241103T070000
END:STANDARD
BEGIN:DAYLIGHT
TZOFFSETFROM:-0600
TZOFFSETTO:-0500
TZNAME:CDT
DTSTART:20250309T080000
END:DAYLIGHT
BEGIN:STANDARD
TZOFFSETFROM:-0500
TZOFFSETTO:-0600
TZNAME:CST
DTSTART:20251102T070000
END:STANDARD
BEGIN:DAYLIGHT
TZOFFSETFROM:-0600
TZOFFSETTO:-0500
TZNAME:CDT
DTSTART:20260308T080000
END:DAYLIGHT
BEGIN:STANDARD
TZOFFSETFROM:-0500
TZOFFSETTO:-0600
TZNAME:CST
DTSTART:20261101T070000
END:STANDARD
END:VTIMEZONE
BEGIN:VEVENT
DTSTART;TZID=America/Chicago:20250707T150000
DTEND;TZID=America/Chicago:20250707T163000
DTSTAMP:20260423T211857
CREATED:20240605T165605Z
LAST-MODIFIED:20240611T185238Z
UID:27582-1751900400-1751905800@womenagainstmilitarymadness.org
SUMMARY:FROM GENOCIDE IN GAZA TO DECOLONIZING PALESTINE: TOWARDS A DEMOCRATIC STATE FOR ALL BETWEEN THE RIVER AND THE SEA
DESCRIPTION:Sunday\, July 7\, 3:00\, Carondelet Village\, 525 Fairview Ave. S.  St.Paul  \n  \nEven as the genocide in Gaza continues\, the US and Europe are plotting with Saudi Arabia to “normalize” Israel’s place in the region\, leaving the Palestinians trapped in the tiny enclaves of Israel’s apartheid regime forever. While our attention and hearts are focused on Gaza\, we civil society actors cannot abandon the wider fight for Palestinian rights and a better future for everyone between the River and the Sea\, now in a critical phase. \nAs a founding member of the Palestinian-led One Democratic State Campaign (ODSC)\, Jeff will present the ODSC’s program for replacing Israel and the Occupied Palestinian Territory with a democratic state with equal rights for all–including the returning refugees. This\, he argues\, is the only substantially just way forward\, but it is strewn with complex and difficult issues that we will discuss; there will be lots of time for discussion. \n  \nAbout Jeff Harper: \nJeff Harper is an Israeli anthropologist\, Director of the Israeli Committee Against House Demolitions (ICAHD) and a founding member of the One Democratic State Campaign program\, and has taught at universities in Israel\, the US\, Latin America\, and Africa. \nJeff has served on the United Nations Committee on the Exercise of the Inalienable Rights of the Palestinian People. In 2008 he sailed into Gaza with the Free Gaza Movement to break the Israeli siege. He was nominated by the American Friends Service Committee for the Nobel Peace Prize\, together with the Palestinian intellectual and militant Hassan Andoni. \nJeff’s latest books are War Against the People: Israel\, the Palestinians and Global Pacification\, which was shortlisted for the Palestine Book Award\, and Decolonizing Israel\, Liberating Palestine: Zionism\, Settler Colonialism and the Case for One Democratic State. \n\n\n	Related
URL:https://womenagainstmilitarymadness.org/events/rom-genocide-in-gaza-to-decolonizing-palestine-towards-a-democratic-state-for-all-between-the-river-and-the-sea/
LOCATION:Carondelet Village\, 525 Fairview Ave. S.\, St. Paul\, MN\, 55116\, United States
CATEGORIES:Featured Events,Upcoming Events
ATTACH;FMTTYPE=image/png:https://womenagainstmilitarymadness.org/wp-content/uploads/2024/06/FROM-GENOCIDE-IN-GAZA-TO-DECOLONIZING-PALESTINE-TOWARDS-A-DEMOCRATIC-STATE-FOR-ALL-BETWEEN-THE-RIVER-AND-THE-SEA.png
END:VEVENT
END:VCALENDAR