BEGIN:VCALENDAR
VERSION:2.0
PRODID:-//Women Against Military Madness - ECPv6.15.20//NONSGML v1.0//EN
CALSCALE:GREGORIAN
METHOD:PUBLISH
X-WR-CALNAME:Women Against Military Madness
X-ORIGINAL-URL:https://womenagainstmilitarymadness.org
X-WR-CALDESC:Events for Women Against Military Madness
REFRESH-INTERVAL;VALUE=DURATION:PT1H
X-Robots-Tag:noindex
X-PUBLISHED-TTL:PT1H
BEGIN:VTIMEZONE
TZID:America/Chicago
BEGIN:DAYLIGHT
TZOFFSETFROM:-0600
TZOFFSETTO:-0500
TZNAME:CDT
DTSTART:20240310T080000
END:DAYLIGHT
BEGIN:STANDARD
TZOFFSETFROM:-0500
TZOFFSETTO:-0600
TZNAME:CST
DTSTART:20241103T070000
END:STANDARD
BEGIN:DAYLIGHT
TZOFFSETFROM:-0600
TZOFFSETTO:-0500
TZNAME:CDT
DTSTART:20250309T080000
END:DAYLIGHT
BEGIN:STANDARD
TZOFFSETFROM:-0500
TZOFFSETTO:-0600
TZNAME:CST
DTSTART:20251102T070000
END:STANDARD
BEGIN:DAYLIGHT
TZOFFSETFROM:-0600
TZOFFSETTO:-0500
TZNAME:CDT
DTSTART:20260308T080000
END:DAYLIGHT
BEGIN:STANDARD
TZOFFSETFROM:-0500
TZOFFSETTO:-0600
TZNAME:CST
DTSTART:20261101T070000
END:STANDARD
END:VTIMEZONE
BEGIN:VEVENT
DTSTART;TZID=America/Chicago:20250916T173000
DTEND;TZID=America/Chicago:20250916T183000
DTSTAMP:20260424T001214
CREATED:20250916T020826Z
LAST-MODIFIED:20250916T020826Z
UID:30834-1758043800-1758047400@womenagainstmilitarymadness.org
SUMMARY:Sabra & Shatila Then. Gaza Now. Stop the Massacres!
DESCRIPTION:Tuesday\, September 16\, 2025\, 5:30 PM\, Minneapolis Federal Building\, 300 S 4th St\, Minneapolis \n\nThe Palestinian diaspora will mark the anniversary of the 1982 Sabra and Shatila massacre but this year also marks so many deaths in Gaza.  Over 63\,000 Palestinians have been murdered by Israel in the past two years – with over 200 of them starving to death from the Israeli designed famine. \nGaza has become the deadliest war zone for journalists in modern history. According to data from the Committee to Protect Journalists\, between October 2023 and August 2025\, a total of 197 journalists and media workers have been killed; 189 of them were Palestinians killed by Israeli forces. \nCo-sponsored by the MN Anti-War Committee and USPCN MN \nEndorsed by American Muslims for Palestine MN\, Climate Justice Committee\, Educators for Justice in Palestine\, MN Immigrant Rights Action Committee\, Free Palestine Coalition\, Freedom Road Socialist Organization\, MN Peace Action Coalition\, PSL\, Twin Cities Coalition for Justice &  Women Against Military Madness  \n\n\n	Related
URL:https://womenagainstmilitarymadness.org/events/sabra-shatila-then-gaza-now-stop-the-massacres/
LOCATION:Minneapolis Federal Building\, 300 S 4th St\, Minneapolis\, MN\, 55415\, United States
CATEGORIES:Upcoming Events
ATTACH;FMTTYPE=image/webp:https://womenagainstmilitarymadness.org/wp-content/uploads/2025/09/Sabra.webp
ORGANIZER;CN="Anti-War Committee":MAILTO:info@antiwarcommittee.org
END:VEVENT
END:VCALENDAR