BEGIN:VCALENDAR
VERSION:2.0
PRODID:-//Women Against Military Madness - ECPv6.15.20//NONSGML v1.0//EN
CALSCALE:GREGORIAN
METHOD:PUBLISH
X-WR-CALNAME:Women Against Military Madness
X-ORIGINAL-URL:https://womenagainstmilitarymadness.org
X-WR-CALDESC:Events for Women Against Military Madness
REFRESH-INTERVAL;VALUE=DURATION:PT1H
X-Robots-Tag:noindex
X-PUBLISHED-TTL:PT1H
BEGIN:VTIMEZONE
TZID:America/Chicago
BEGIN:DAYLIGHT
TZOFFSETFROM:-0600
TZOFFSETTO:-0500
TZNAME:CDT
DTSTART:20240310T080000
END:DAYLIGHT
BEGIN:STANDARD
TZOFFSETFROM:-0500
TZOFFSETTO:-0600
TZNAME:CST
DTSTART:20241103T070000
END:STANDARD
BEGIN:DAYLIGHT
TZOFFSETFROM:-0600
TZOFFSETTO:-0500
TZNAME:CDT
DTSTART:20250309T080000
END:DAYLIGHT
BEGIN:STANDARD
TZOFFSETFROM:-0500
TZOFFSETTO:-0600
TZNAME:CST
DTSTART:20251102T070000
END:STANDARD
BEGIN:DAYLIGHT
TZOFFSETFROM:-0600
TZOFFSETTO:-0500
TZNAME:CDT
DTSTART:20260308T080000
END:DAYLIGHT
BEGIN:STANDARD
TZOFFSETFROM:-0500
TZOFFSETTO:-0600
TZNAME:CST
DTSTART:20261101T070000
END:STANDARD
END:VTIMEZONE
BEGIN:VEVENT
DTSTART;TZID=America/Chicago:20251014T130000
DTEND;TZID=America/Chicago:20251014T143000
DTSTAMP:20260423T210541
CREATED:20220923T173841Z
LAST-MODIFIED:20220923T173841Z
UID:23448-1760446800-1760452200@womenagainstmilitarymadness.org
SUMMARY:Say NO to U.S. Wars!
DESCRIPTION:Say NO to U.S. Wars! \nSaturday\, October 15th at 1:00pm \n301 Cedar Ave S\, Minneapolis\, MN 55454-1030 \nNationally coordinated days of local anti-war protests OCTOBER 15-22\, 2022!\n\nNO U.S. WARS\nStop U.S./NATO proxy war with Russia in Ukraine!\nNo war with China!\nSay NO to the growing danger of Nuclear War!\nEnd endless U.S. wars: Syria\, Iraq\, Somalia\, Afghanistan\, Everywhere!\nNo new wars – Korea\, Iran\, Anywhere!\nNo U.S. aid to the occupation of Palestine – Free Palestine!\nFunds for human needs\, not for war!\n\nSchedule:\n1:00pm Gather at 3rd St. & Cedar Ave. (Mayday Plaza on the West Bank)\n1:45 pm Neighborhood march to make a visible anti-war statement.\n\nInitiated by:\nMinnesota Peace Action Coalition\n\nEndorsed by: Antiwar Advocates of Minnesota CD2\, Anti-War Committee\, Bikers Riding Against Police Brutality\, Climate Justice Committee\, Freedom Road Socialist Organization\, Mayday Books\, Minnesota War Tax Resistance\, Movement for a People’s Democracy – Midwest\, Party for Socialism and Liberation – Minneapolis\, Socialist Action\, Socialist Party USA-Twin Cities Local\, St. Paul Eastside Neighbors for Peace\, Twin Cities Assange Defense\, Twin Cities CPUSA (Communist Party)\, Veterans for Peace Chapter 27\, Welfare Rights Committee\, Women Against Military Madness.\n\nFor more information\, please call 612-827-5364.\n\n\n	Related
URL:https://womenagainstmilitarymadness.org/events/say-no-to-u-s-wars/
LOCATION:301 Cedar Ave S\, Minneapolis\, MN 55454-1030\, 301 Cedar Ave S\, Minneapolis\, MN\, 55454\, United States
CATEGORIES:Featured Events,Sponsored Events,Upcoming Events
ATTACH;FMTTYPE=image/jpeg:https://womenagainstmilitarymadness.org/wp-content/uploads/2022/09/307935769_5480430662036748_399070382178385181_n.jpg
END:VEVENT
END:VCALENDAR