BEGIN:VCALENDAR
VERSION:2.0
PRODID:-//Women Against Military Madness - ECPv6.15.20//NONSGML v1.0//EN
CALSCALE:GREGORIAN
METHOD:PUBLISH
X-WR-CALNAME:Women Against Military Madness
X-ORIGINAL-URL:https://womenagainstmilitarymadness.org
X-WR-CALDESC:Events for Women Against Military Madness
REFRESH-INTERVAL;VALUE=DURATION:PT1H
X-Robots-Tag:noindex
X-PUBLISHED-TTL:PT1H
BEGIN:VTIMEZONE
TZID:America/Chicago
BEGIN:DAYLIGHT
TZOFFSETFROM:-0600
TZOFFSETTO:-0500
TZNAME:CDT
DTSTART:20240310T080000
END:DAYLIGHT
BEGIN:STANDARD
TZOFFSETFROM:-0500
TZOFFSETTO:-0600
TZNAME:CST
DTSTART:20241103T070000
END:STANDARD
BEGIN:DAYLIGHT
TZOFFSETFROM:-0600
TZOFFSETTO:-0500
TZNAME:CDT
DTSTART:20250309T080000
END:DAYLIGHT
BEGIN:STANDARD
TZOFFSETFROM:-0500
TZOFFSETTO:-0600
TZNAME:CST
DTSTART:20251102T070000
END:STANDARD
BEGIN:DAYLIGHT
TZOFFSETFROM:-0600
TZOFFSETTO:-0500
TZNAME:CDT
DTSTART:20260308T080000
END:DAYLIGHT
BEGIN:STANDARD
TZOFFSETFROM:-0500
TZOFFSETTO:-0600
TZNAME:CST
DTSTART:20261101T070000
END:STANDARD
END:VTIMEZONE
BEGIN:VEVENT
DTSTART;TZID=America/Chicago:20250418T160000
DTEND;TZID=America/Chicago:20250418T170000
DTSTAMP:20260423T144938
CREATED:20240417T173349Z
LAST-MODIFIED:20240417T173349Z
UID:27307-1744992000-1744995600@womenagainstmilitarymadness.org
SUMMARY:Senator Klobuchar: Take Cuba off the U.S. State Sponsors of Terrorism List!
DESCRIPTION:DEMAND! Senator Klobuchar: Take Cuba off the U.S. State Sponsors of Terrorism List!\n\n\nProtest at Klobuchar’s office!\nThursday\, April 18\, 2024\, 4:00 PM to 5:00 pm\, 1200 Washington Avenue South Minneapolis\, MN 55415\n\n\n\nWe are gathering at Senator Amy Klobuchar’s office to call on her to advocate with President Biden to take Cuba off the list of U.S. State Sponsors of Terrorism list.\nThis listing and sanctions on Cubans causes pain and suffering to the Cuban people. We need to normalize relations with our neighboring country.\n>>>>Join us to deliver petitions to Senator Klobuchar’s office.<<<<\nThe United States under Trump put Cuba on a list of few countries that are designated as State Sponsors of Terrorism. This was after the Obama administration took Cuba off the list because it did not meet the criteria and was an impediment to diplomatic normalization.\nThe list is used as a way for the US to punish countries that it is in conflict with. Cuba was put on the list by Trump without providing any reasonable justification for doing this.\nThis designation has harmed the people of Cuba by international financial restrictions that prevent it from rebooting its economy especially after the pandemic\, Biden has continued this policy\, but he can remove Cuba from the list by a stroke of his pen via an Executive Order.\nInitiated by: Solidarity Committee on the Americas (SCOTA)\, Minnesota Cuba Committee\, Witness for Peace Solidarity Collective \n\n\n\n\n	Related
URL:https://womenagainstmilitarymadness.org/events/senator-klobuchar-take-cuba-off-the-u-s-state-sponsors-of-terrorism-list/
LOCATION:Senator Amy Klobuchar’s Minneapolis Office\, 1200 S Washington Ave\, Minneapolis\, 55415-1227\, United States
CATEGORIES:Featured Events,Upcoming Events
ATTACH;FMTTYPE=image/jpeg:https://womenagainstmilitarymadness.org/wp-content/uploads/2024/04/437056207_731330609212718_8492570634696210130_n-scaled.jpg
ORGANIZER;CN="SCOTA":MAILTO:solidaritycommitteeofamericas@gmail.com
END:VEVENT
END:VCALENDAR