BEGIN:VCALENDAR
VERSION:2.0
PRODID:-//Women Against Military Madness - ECPv6.15.20//NONSGML v1.0//EN
CALSCALE:GREGORIAN
METHOD:PUBLISH
X-WR-CALNAME:Women Against Military Madness
X-ORIGINAL-URL:https://womenagainstmilitarymadness.org
X-WR-CALDESC:Events for Women Against Military Madness
REFRESH-INTERVAL;VALUE=DURATION:PT1H
X-Robots-Tag:noindex
X-PUBLISHED-TTL:PT1H
BEGIN:VTIMEZONE
TZID:America/Chicago
BEGIN:DAYLIGHT
TZOFFSETFROM:-0600
TZOFFSETTO:-0500
TZNAME:CDT
DTSTART:20250309T080000
END:DAYLIGHT
BEGIN:STANDARD
TZOFFSETFROM:-0500
TZOFFSETTO:-0600
TZNAME:CST
DTSTART:20251102T070000
END:STANDARD
BEGIN:DAYLIGHT
TZOFFSETFROM:-0600
TZOFFSETTO:-0500
TZNAME:CDT
DTSTART:20260308T080000
END:DAYLIGHT
BEGIN:STANDARD
TZOFFSETFROM:-0500
TZOFFSETTO:-0600
TZNAME:CST
DTSTART:20261101T070000
END:STANDARD
BEGIN:DAYLIGHT
TZOFFSETFROM:-0600
TZOFFSETTO:-0500
TZNAME:CDT
DTSTART:20270314T080000
END:DAYLIGHT
BEGIN:STANDARD
TZOFFSETFROM:-0500
TZOFFSETTO:-0600
TZNAME:CST
DTSTART:20271107T070000
END:STANDARD
END:VTIMEZONE
BEGIN:VEVENT
DTSTART;TZID=America/Chicago:20260302T100000
DTEND;TZID=America/Chicago:20260302T120000
DTSTAMP:20260423T223140
CREATED:20240229T205033Z
LAST-MODIFIED:20240229T205033Z
UID:27046-1772445600-1772452800@womenagainstmilitarymadness.org
SUMMARY:St Paul Flyering
DESCRIPTION:Saturday\, March 2\, 10:00 AM\, Finnish Bistro\, 2264 Como Ave\, St Paul MN \nWE WILL NOT BE SILENT! St Paul residents demand a ceasefire resolution! St Paul Councilwoman Mitra Jalali continues to obstruct a ceasefire resolution. Poster her neighborhood on Saturday with WAMM to demand a Ceasefire Resolution. Meet at 10 AM at the Finnish Bistro\, 2264 Como Ave. Bring tape and stapling gun if you have them! \n\n\n	Related
URL:https://womenagainstmilitarymadness.org/events/st-paul-flyering/
LOCATION:Finnish Bistro\, 2264 Como Ave\, St Paul\, MN\, 55108\, United States
CATEGORIES:Featured Events,Upcoming Events
ATTACH;FMTTYPE=image/png:https://womenagainstmilitarymadness.org/wp-content/uploads/2024/02/flyering.png
END:VEVENT
END:VCALENDAR