BEGIN:VCALENDAR
VERSION:2.0
PRODID:-//Women Against Military Madness - ECPv6.15.20//NONSGML v1.0//EN
CALSCALE:GREGORIAN
METHOD:PUBLISH
X-WR-CALNAME:Women Against Military Madness
X-ORIGINAL-URL:https://womenagainstmilitarymadness.org
X-WR-CALDESC:Events for Women Against Military Madness
REFRESH-INTERVAL;VALUE=DURATION:PT1H
X-Robots-Tag:noindex
X-PUBLISHED-TTL:PT1H
BEGIN:VTIMEZONE
TZID:America/Chicago
BEGIN:DAYLIGHT
TZOFFSETFROM:-0600
TZOFFSETTO:-0500
TZNAME:CDT
DTSTART:20240310T080000
END:DAYLIGHT
BEGIN:STANDARD
TZOFFSETFROM:-0500
TZOFFSETTO:-0600
TZNAME:CST
DTSTART:20241103T070000
END:STANDARD
BEGIN:DAYLIGHT
TZOFFSETFROM:-0600
TZOFFSETTO:-0500
TZNAME:CDT
DTSTART:20250309T080000
END:DAYLIGHT
BEGIN:STANDARD
TZOFFSETFROM:-0500
TZOFFSETTO:-0600
TZNAME:CST
DTSTART:20251102T070000
END:STANDARD
BEGIN:DAYLIGHT
TZOFFSETFROM:-0600
TZOFFSETTO:-0500
TZNAME:CDT
DTSTART:20260308T080000
END:DAYLIGHT
BEGIN:STANDARD
TZOFFSETFROM:-0500
TZOFFSETTO:-0600
TZNAME:CST
DTSTART:20261101T070000
END:STANDARD
END:VTIMEZONE
BEGIN:VEVENT
DTSTART;TZID=America/Chicago:20250708T130000
DTEND;TZID=America/Chicago:20250708T140000
DTSTAMP:20260424T034137
CREATED:20230629T193348Z
LAST-MODIFIED:20230629T193348Z
UID:25479-1751979600-1751983200@womenagainstmilitarymadness.org
SUMMARY:Stop Polluting East Phillips
DESCRIPTION:Stop Polluting East Phillips – Campaign Kick Off!\nSmith Foundry & Bituminous Roadways Don’t Belong in the Neighborhoods!\nSunday\, July 9\, 2023 1:00 pm\n28th and Longfellow in Minneapolis \nThe fight to #DefendEastPhillips isn’t over! First we won the depot\, now we’re gonna win this: get Bituminous & Smith out of the neighborhood and into a non-residential area! No chance they’d have ever even been allowed in a richer\, whiter neighborhood like Kenwood. Fight for the air we breathe! \nSponsored by the Climate Justice Committee \n  \n  \n\n\n	Related
URL:https://womenagainstmilitarymadness.org/events/stop-polluting-east-phillips/
LOCATION:East 28th Street and Longfellow Avenue\, 2199 East 28th Street\, Minneapolis\, MN\, 55407\, United States
CATEGORIES:Featured Events,Upcoming Events
ATTACH;FMTTYPE=image/jpeg:https://womenagainstmilitarymadness.org/wp-content/uploads/2023/06/StopPolluting.jpeg
END:VEVENT
END:VCALENDAR