BEGIN:VCALENDAR
VERSION:2.0
PRODID:-//Women Against Military Madness - ECPv6.15.20//NONSGML v1.0//EN
CALSCALE:GREGORIAN
METHOD:PUBLISH
X-WR-CALNAME:Women Against Military Madness
X-ORIGINAL-URL:https://womenagainstmilitarymadness.org
X-WR-CALDESC:Events for Women Against Military Madness
REFRESH-INTERVAL;VALUE=DURATION:PT1H
X-Robots-Tag:noindex
X-PUBLISHED-TTL:PT1H
BEGIN:VTIMEZONE
TZID:America/Chicago
BEGIN:DAYLIGHT
TZOFFSETFROM:-0600
TZOFFSETTO:-0500
TZNAME:CDT
DTSTART:20240310T080000
END:DAYLIGHT
BEGIN:STANDARD
TZOFFSETFROM:-0500
TZOFFSETTO:-0600
TZNAME:CST
DTSTART:20241103T070000
END:STANDARD
BEGIN:DAYLIGHT
TZOFFSETFROM:-0600
TZOFFSETTO:-0500
TZNAME:CDT
DTSTART:20250309T080000
END:DAYLIGHT
BEGIN:STANDARD
TZOFFSETFROM:-0500
TZOFFSETTO:-0600
TZNAME:CST
DTSTART:20251102T070000
END:STANDARD
BEGIN:DAYLIGHT
TZOFFSETFROM:-0600
TZOFFSETTO:-0500
TZNAME:CDT
DTSTART:20260308T080000
END:DAYLIGHT
BEGIN:STANDARD
TZOFFSETFROM:-0500
TZOFFSETTO:-0600
TZNAME:CST
DTSTART:20261101T070000
END:STANDARD
END:VTIMEZONE
BEGIN:VEVENT
DTSTART;TZID=America/Chicago:20250713T160000
DTEND;TZID=America/Chicago:20250713T170000
DTSTAMP:20260423T222320
CREATED:20230710T190948Z
LAST-MODIFIED:20230710T190948Z
UID:25509-1752422400-1752426000@womenagainstmilitarymadness.org
SUMMARY:Stop the Attacks on Queer and Trans Rights!
DESCRIPTION:Stop the Attacks on Queen and Trans Rights rally\nFriday\, July 14\, 2023\, The Commons\, 425 Portland Ave in downtown Minneapolis\n\nJoin Taking Back Pride Coalition to protest ongoing attacks made by SCOTUS on LGBTQ+\, Black and Brown\, and working class people on Friday\, July 14th at 4pm at The Commons park in downtown Minneapolis\n\nWe know that the recent ruling in favor or 303 Creative LLC to discriminate against LGBTQ+ people is just the beginning. Besides hurting Queer people\, it provides legal precedent for discrimination against Black and Brown people\, as well as many other groups. Now is not the time to be neutral! Roe was just the beginning of this courts attacks; cases like Obergefell and Loving\, that established legally recognized Gay and Interracial marriage respectively\, and Lawrence\, that recognized sodomy laws as unconstitutional\, will be on the chopping block. If we want to keep what few rights we have today\, we have to be willing to take to the streets! We won’t go back in the closet\, and we won’t go back to Jim Crow!\n\nSponsorred by Taking Back Pride Coalition\, MN Abortion Rights Committee\, Twin Cities Justice 4 Jamar\, Minneapolis Community for Police Accountability Commission\, Anti-War Committee\, Women Against Military Madness and Freedom Road Socialist Organization-Twin Cities.\n\n\n\n\n	Related
URL:https://womenagainstmilitarymadness.org/events/stop-the-attacks-on-queer-and-trans-rights/
LOCATION:The Commons\, 425 Portland Ave S\, Minneapolis\, MN\, 55488\, United States
CATEGORIES:Featured Events,Upcoming Events
ATTACH;FMTTYPE=image/jpeg:https://womenagainstmilitarymadness.org/wp-content/uploads/2023/07/StopAttacksOnTrans.jpeg
ORGANIZER;CN="Women Against Military Madness":MAILTO:general@wamm.me
END:VEVENT
END:VCALENDAR