BEGIN:VCALENDAR
VERSION:2.0
PRODID:-//Women Against Military Madness - ECPv6.15.20//NONSGML v1.0//EN
CALSCALE:GREGORIAN
METHOD:PUBLISH
X-WR-CALNAME:Women Against Military Madness
X-ORIGINAL-URL:https://womenagainstmilitarymadness.org
X-WR-CALDESC:Events for Women Against Military Madness
REFRESH-INTERVAL;VALUE=DURATION:PT1H
X-Robots-Tag:noindex
X-PUBLISHED-TTL:PT1H
BEGIN:VTIMEZONE
TZID:America/Chicago
BEGIN:DAYLIGHT
TZOFFSETFROM:-0600
TZOFFSETTO:-0500
TZNAME:CDT
DTSTART:20240310T080000
END:DAYLIGHT
BEGIN:STANDARD
TZOFFSETFROM:-0500
TZOFFSETTO:-0600
TZNAME:CST
DTSTART:20241103T070000
END:STANDARD
BEGIN:DAYLIGHT
TZOFFSETFROM:-0600
TZOFFSETTO:-0500
TZNAME:CDT
DTSTART:20250309T080000
END:DAYLIGHT
BEGIN:STANDARD
TZOFFSETFROM:-0500
TZOFFSETTO:-0600
TZNAME:CST
DTSTART:20251102T070000
END:STANDARD
BEGIN:DAYLIGHT
TZOFFSETFROM:-0600
TZOFFSETTO:-0500
TZNAME:CDT
DTSTART:20260308T080000
END:DAYLIGHT
BEGIN:STANDARD
TZOFFSETFROM:-0500
TZOFFSETTO:-0600
TZNAME:CST
DTSTART:20261101T070000
END:STANDARD
END:VTIMEZONE
BEGIN:VEVENT
DTSTART;TZID=America/Chicago:20250630T100000
DTEND;TZID=America/Chicago:20250630T130000
DTSTAMP:20260423T220738
CREATED:20240522T175701Z
LAST-MODIFIED:20240606T181847Z
UID:27469-1751277600-1751288400@womenagainstmilitarymadness.org
SUMMARY:TAKING BACK PRIDE MARCH 2024
DESCRIPTION:Sunday\, June 30\, 2024\, 10:00 am\, Downtown Minneapolis (6th Street – between Hennepin & 1st Ave North) \nTAKING BACK PRIDE MARCH 2024 \nJoin us on Sunday\, June 30th at 10 am in downtown Minneapolis (6th Street – between Hennepin & 1st Ave North) for our annual Taking Back Pride March! No cops\, no capitalism\, no corporations at Pride! Black trans lives matter! Free Palestine! \nTaking Back Pride is an annual protest organized by a coalition of grassroots organizations across the Twin Cities to protest the continued presence of cops and corporations at Twin Cities Pride. It is explicitly anti-cop and anti-corporation\, and is Black-led\, trans-led\, and left-led. \nWHY WE MARCH:\nStonewall was an uprising against police brutality. Since the lynching and murder of George Floyd\, Minneapolis has become ground zero in the fight against police murder\, starting with an uprising that shook the country. Queer and trans community members continue to be targets of ongoing police violence\, so the fight against police terror is our fight. Additionally\, we march for the rights and well-being of our queer & trans siblings across the country and around the globe; we march against anti-trans & anti-gay legislation across the US; we march for a free Palestine. \n#stonewallwasariot #transliberation #blackliberation #blacklivesmatter #blacktranslivesmatter #nojusticenopeace #noprideingenocide #protecttranskids #blm #queerliberation #fuck12 #freepalestine #queerjoy #fuckrainbowcapitalism #bodilyautonomy #resistance #persistence #june2024 #gayagenda #transagenda #manifesta #thereisnoplanetb \n\n\n	Related
URL:https://womenagainstmilitarymadness.org/events/taking-back-pride-march-2024/
LOCATION:6th Street Downtown MPLS\, 6th Street - between Hennepin & 1st Ave North
CATEGORIES:Featured Events,Sponsored Events,Upcoming Events
ATTACH;FMTTYPE=image/png:https://womenagainstmilitarymadness.org/wp-content/uploads/2024/05/Screenshot-2024-06-06-at-1.13.44 PM.png
END:VEVENT
END:VCALENDAR