BEGIN:VCALENDAR
VERSION:2.0
PRODID:-//Women Against Military Madness - ECPv6.15.20//NONSGML v1.0//EN
CALSCALE:GREGORIAN
METHOD:PUBLISH
X-WR-CALNAME:Women Against Military Madness
X-ORIGINAL-URL:https://womenagainstmilitarymadness.org
X-WR-CALDESC:Events for Women Against Military Madness
REFRESH-INTERVAL;VALUE=DURATION:PT1H
X-Robots-Tag:noindex
X-PUBLISHED-TTL:PT1H
BEGIN:VTIMEZONE
TZID:America/Chicago
BEGIN:DAYLIGHT
TZOFFSETFROM:-0600
TZOFFSETTO:-0500
TZNAME:CDT
DTSTART:20240310T080000
END:DAYLIGHT
BEGIN:STANDARD
TZOFFSETFROM:-0500
TZOFFSETTO:-0600
TZNAME:CST
DTSTART:20241103T070000
END:STANDARD
BEGIN:DAYLIGHT
TZOFFSETFROM:-0600
TZOFFSETTO:-0500
TZNAME:CDT
DTSTART:20250309T080000
END:DAYLIGHT
BEGIN:STANDARD
TZOFFSETFROM:-0500
TZOFFSETTO:-0600
TZNAME:CST
DTSTART:20251102T070000
END:STANDARD
BEGIN:DAYLIGHT
TZOFFSETFROM:-0600
TZOFFSETTO:-0500
TZNAME:CDT
DTSTART:20260308T080000
END:DAYLIGHT
BEGIN:STANDARD
TZOFFSETFROM:-0500
TZOFFSETTO:-0600
TZNAME:CST
DTSTART:20261101T070000
END:STANDARD
END:VTIMEZONE
BEGIN:VEVENT
DTSTART;TZID=America/Chicago:20250624T100000
DTEND;TZID=America/Chicago:20250624T110000
DTSTAMP:20260423T220720
CREATED:20230620T145943Z
LAST-MODIFIED:20230620T182842Z
UID:25443-1750759200-1750762800@womenagainstmilitarymadness.org
SUMMARY:Taking Back Pride March
DESCRIPTION:Taking Back Pride March\nSunday\, June 25\, 2023\, 10 am\nNorth 6th Street & Hennepin Ave in Minneapolis \nMeet at North 6th Street & Hennepin Ave!\nJoin us this pride in fighting for queer and trans liberation and protesting the continued presence of cops\, capitalism\, and corporations at Twin Cities Pride!\nPRIDE FOR THE PEOPLE! \nBLACK TRANS LIVES MATTER! \nSTOP THE ATTACK ON QUEER AND TRANS RIGHTS! \nSTONEWALL WAS A RIOT\n\nCome march in our Cuba contingent! Meeting at 10:30 a.m.\nMarch with others with our Cuba banners. Help pass out Cuba solidarity stickers and information!\nOur section will focus on Cuba. We will have Cuban flags and signs to promote:\n-Not Proud of US blockade of Cuba!\n-Cuba supports LGBTQ rights! \nSponsored by Taking Back Pride Coalition \n\n\n\n	Related
URL:https://womenagainstmilitarymadness.org/events/taking-back-pride-march/
LOCATION:North 6th Street and Hennepin Ave\, 55403
CATEGORIES:Featured Events,Upcoming Events
ATTACH;FMTTYPE=image/jpeg:https://womenagainstmilitarymadness.org/wp-content/uploads/2023/06/TakingBackPrideSign.jpeg
END:VEVENT
END:VCALENDAR