BEGIN:VCALENDAR
VERSION:2.0
PRODID:-//Women Against Military Madness - ECPv6.15.20//NONSGML v1.0//EN
CALSCALE:GREGORIAN
METHOD:PUBLISH
X-WR-CALNAME:Women Against Military Madness
X-ORIGINAL-URL:https://womenagainstmilitarymadness.org
X-WR-CALDESC:Events for Women Against Military Madness
REFRESH-INTERVAL;VALUE=DURATION:PT1H
X-Robots-Tag:noindex
X-PUBLISHED-TTL:PT1H
BEGIN:VTIMEZONE
TZID:America/Chicago
BEGIN:DAYLIGHT
TZOFFSETFROM:-0600
TZOFFSETTO:-0500
TZNAME:CDT
DTSTART:20240310T080000
END:DAYLIGHT
BEGIN:STANDARD
TZOFFSETFROM:-0500
TZOFFSETTO:-0600
TZNAME:CST
DTSTART:20241103T070000
END:STANDARD
BEGIN:DAYLIGHT
TZOFFSETFROM:-0600
TZOFFSETTO:-0500
TZNAME:CDT
DTSTART:20250309T080000
END:DAYLIGHT
BEGIN:STANDARD
TZOFFSETFROM:-0500
TZOFFSETTO:-0600
TZNAME:CST
DTSTART:20251102T070000
END:STANDARD
BEGIN:DAYLIGHT
TZOFFSETFROM:-0600
TZOFFSETTO:-0500
TZNAME:CDT
DTSTART:20260308T080000
END:DAYLIGHT
BEGIN:STANDARD
TZOFFSETFROM:-0500
TZOFFSETTO:-0600
TZNAME:CST
DTSTART:20261101T070000
END:STANDARD
END:VTIMEZONE
BEGIN:VEVENT
DTSTART;TZID=America/Chicago:20250608T130000
DTEND;TZID=America/Chicago:20250608T150000
DTSTAMP:20260423T164545
CREATED:20250605T200903Z
LAST-MODIFIED:20250605T200903Z
UID:30217-1749387600-1749394800@womenagainstmilitarymadness.org
SUMMARY:Taking Back Pride Volunteer Meeting & Art Build
DESCRIPTION:Sunday\, June 8\, 2025\, 1 -3 PM\, Lucy parsons Center\, 4100 28th Ave S\, Mpls \n🌈JOIN US FOR AN ART BUILD🌈 \nLooking to get involved with Taking Back Pride this year? Love to be artsy? Join us for an art build on June 8th from 1PM-3PM at the Lucy Parsons Center (4100 28th Ave)! We hope to see you there! 🌈 \nOrganized by Taking Back Pride Coalition \n\n\n	Related
URL:https://womenagainstmilitarymadness.org/events/taking-back-pride-volunteer-meeting-art-build/
LOCATION:Lucy Parsons Center\, 4100 28th Ave S\, Minneapolis\, MN\, 55407\, United States
CATEGORIES:Featured Events,Sponsored Events,Upcoming Events
ATTACH;FMTTYPE=image/webp:https://womenagainstmilitarymadness.org/wp-content/uploads/2025/06/JPEG-image-4AA7-9C65-F6-0-2.webp
END:VEVENT
END:VCALENDAR