BEGIN:VCALENDAR
VERSION:2.0
PRODID:-//Women Against Military Madness - ECPv6.15.20//NONSGML v1.0//EN
CALSCALE:GREGORIAN
METHOD:PUBLISH
X-WR-CALNAME:Women Against Military Madness
X-ORIGINAL-URL:https://womenagainstmilitarymadness.org
X-WR-CALDESC:Events for Women Against Military Madness
REFRESH-INTERVAL;VALUE=DURATION:PT1H
X-Robots-Tag:noindex
X-PUBLISHED-TTL:PT1H
BEGIN:VTIMEZONE
TZID:America/Chicago
BEGIN:DAYLIGHT
TZOFFSETFROM:-0600
TZOFFSETTO:-0500
TZNAME:CDT
DTSTART:20240310T080000
END:DAYLIGHT
BEGIN:STANDARD
TZOFFSETFROM:-0500
TZOFFSETTO:-0600
TZNAME:CST
DTSTART:20241103T070000
END:STANDARD
BEGIN:DAYLIGHT
TZOFFSETFROM:-0600
TZOFFSETTO:-0500
TZNAME:CDT
DTSTART:20250309T080000
END:DAYLIGHT
BEGIN:STANDARD
TZOFFSETFROM:-0500
TZOFFSETTO:-0600
TZNAME:CST
DTSTART:20251102T070000
END:STANDARD
BEGIN:DAYLIGHT
TZOFFSETFROM:-0600
TZOFFSETTO:-0500
TZNAME:CDT
DTSTART:20260308T080000
END:DAYLIGHT
BEGIN:STANDARD
TZOFFSETFROM:-0500
TZOFFSETTO:-0600
TZNAME:CST
DTSTART:20261101T070000
END:STANDARD
END:VTIMEZONE
BEGIN:VEVENT
DTSTART;TZID=America/Chicago:20250908T190000
DTEND;TZID=America/Chicago:20250908T210000
DTSTAMP:20260423T175919
CREATED:20250821T192347Z
LAST-MODIFIED:20250821T192347Z
UID:30787-1757358000-1757365200@womenagainstmilitarymadness.org
SUMMARY:The Body Politic Film Screening
DESCRIPTION:Monday\, September 8\, 2025\, 7 PM\, 4200 Cedar Ave S\, Minneapolis\, MN \n“The Body Politic is a harbinger of hope in a country plagued by gun violence. In Baltimore\, Brandon Scott\, an idealistic young leader with an ambitious plan to stop chronic violence is elected mayor. Throughout his first year in office…POV follows him as he fights powerful political forces to save lives in Baltimore and reveal a pathway toward healing for the nation.” \nA Co- Production with ITVS. A Co-Presentation with Black Public Media \nFilmmakers: Gabriel Francis Paz Goodenough/ Dawne Langford \nPBS/POV I 2024 I 90 minutes \nOrganized by WAMM Movie Committee \n\n\n	Related
URL:https://womenagainstmilitarymadness.org/events/the-body-politic-film-screening/
LOCATION:4200 Cedar Ave S\, Minneapolis MN 55407\, 4200 Cedar Ave S\, Minneapolis\, MN\, 55407\, United States
CATEGORIES:Featured Events,Upcoming Events
ATTACH;FMTTYPE=image/webp:https://womenagainstmilitarymadness.org/wp-content/uploads/2025/08/September-IG-Post.webp
END:VEVENT
END:VCALENDAR