BEGIN:VCALENDAR
VERSION:2.0
PRODID:-//Women Against Military Madness - ECPv6.15.20//NONSGML v1.0//EN
CALSCALE:GREGORIAN
METHOD:PUBLISH
X-WR-CALNAME:Women Against Military Madness
X-ORIGINAL-URL:https://womenagainstmilitarymadness.org
X-WR-CALDESC:Events for Women Against Military Madness
REFRESH-INTERVAL;VALUE=DURATION:PT1H
X-Robots-Tag:noindex
X-PUBLISHED-TTL:PT1H
BEGIN:VTIMEZONE
TZID:America/Chicago
BEGIN:DAYLIGHT
TZOFFSETFROM:-0600
TZOFFSETTO:-0500
TZNAME:CDT
DTSTART:20250309T080000
END:DAYLIGHT
BEGIN:STANDARD
TZOFFSETFROM:-0500
TZOFFSETTO:-0600
TZNAME:CST
DTSTART:20251102T070000
END:STANDARD
BEGIN:DAYLIGHT
TZOFFSETFROM:-0600
TZOFFSETTO:-0500
TZNAME:CDT
DTSTART:20260308T080000
END:DAYLIGHT
BEGIN:STANDARD
TZOFFSETFROM:-0500
TZOFFSETTO:-0600
TZNAME:CST
DTSTART:20261101T070000
END:STANDARD
BEGIN:DAYLIGHT
TZOFFSETFROM:-0600
TZOFFSETTO:-0500
TZNAME:CDT
DTSTART:20270314T080000
END:DAYLIGHT
BEGIN:STANDARD
TZOFFSETFROM:-0500
TZOFFSETTO:-0600
TZNAME:CST
DTSTART:20271107T070000
END:STANDARD
END:VTIMEZONE
BEGIN:VEVENT
DTSTART;TZID=America/Chicago:20260211T130000
DTEND;TZID=America/Chicago:20260211T150000
DTSTAMP:20260425T110719
CREATED:20230110T153051Z
LAST-MODIFIED:20230110T163905Z
UID:24299-1770814800-1770822000@womenagainstmilitarymadness.org
SUMMARY:The Boys Who Said No movie
DESCRIPTION:Sunday\, February 12\, 2023 at 1:00 pm\n4200 Cedar Ave in Minneapolis \nThe Boys Who Said No: Draft Resistance and the Vietnam War is an overdue and de-finitive account of the principled and power-ful nonviolent resistance to America’s most problematic war. These young men risked years in prison to challenge a war of tragic human proportions. Their leadership\, personal sacrifices\, and example had a direct effect on ending the war\, and are an im-portant example for today’s movements for social justice and peace.\nDirected by Judith Ehrlich\nInsight Films | US | 2020 | 1 hour 30 mins\nMasks and social distancing by choice. \nConnecting the dots…discussion\nAlways FREE and open to the public\nALL ARE WELCOME! Free refreshments!\nSponsored by the WAMM Movie Committee and Veterans for Peace Chapter 27\n\n\n	Related
URL:https://womenagainstmilitarymadness.org/events/the-boys-who-said-no-movie/
LOCATION:4200 Cedar Ave S\, Minneapolis MN 55407\, 4200 Cedar Ave S\, Minneapolis\, MN\, 55407\, United States
CATEGORIES:Featured Events,Upcoming Events
ATTACH;FMTTYPE=image/jpeg:https://womenagainstmilitarymadness.org/wp-content/uploads/2023/01/TheBoysCrop.jpg
END:VEVENT
END:VCALENDAR