BEGIN:VCALENDAR
VERSION:2.0
PRODID:-//Women Against Military Madness - ECPv6.15.20//NONSGML v1.0//EN
CALSCALE:GREGORIAN
METHOD:PUBLISH
X-WR-CALNAME:Women Against Military Madness
X-ORIGINAL-URL:https://womenagainstmilitarymadness.org
X-WR-CALDESC:Events for Women Against Military Madness
REFRESH-INTERVAL;VALUE=DURATION:PT1H
X-Robots-Tag:noindex
X-PUBLISHED-TTL:PT1H
BEGIN:VTIMEZONE
TZID:America/Chicago
BEGIN:DAYLIGHT
TZOFFSETFROM:-0600
TZOFFSETTO:-0500
TZNAME:CDT
DTSTART:20240310T080000
END:DAYLIGHT
BEGIN:STANDARD
TZOFFSETFROM:-0500
TZOFFSETTO:-0600
TZNAME:CST
DTSTART:20241103T070000
END:STANDARD
BEGIN:DAYLIGHT
TZOFFSETFROM:-0600
TZOFFSETTO:-0500
TZNAME:CDT
DTSTART:20250309T080000
END:DAYLIGHT
BEGIN:STANDARD
TZOFFSETFROM:-0500
TZOFFSETTO:-0600
TZNAME:CST
DTSTART:20251102T070000
END:STANDARD
BEGIN:DAYLIGHT
TZOFFSETFROM:-0600
TZOFFSETTO:-0500
TZNAME:CDT
DTSTART:20260308T080000
END:DAYLIGHT
BEGIN:STANDARD
TZOFFSETFROM:-0500
TZOFFSETTO:-0600
TZNAME:CST
DTSTART:20261101T070000
END:STANDARD
END:VTIMEZONE
BEGIN:VEVENT
DTSTART;TZID=America/Chicago:20250616T100000
DTEND;TZID=America/Chicago:20250616T110000
DTSTAMP:20260424T000656
CREATED:20230615T152358Z
LAST-MODIFIED:20230615T220819Z
UID:25403-1750068000-1750071600@womenagainstmilitarymadness.org
SUMMARY:The Ongoing Nakba: 75 Years Later
DESCRIPTION:The Ongoing Nakba: 75 Years Later with Rev. Dr. Munther Isaac of Christmas Evangelical Lutheran Church\, Bethlehem\nSaturday\, June 17\, 10- 11:30 am\nOnline Event \n“Nakba:” in Arabic\, “ “the catastrophe.” Between the passing of the United Nations partition plan in 1947 and the end of the war in 1949\, at least 700\,000 Palestinians were expelled from their homes and homeland. Unknown numbers were killed by Zionist militia and the new Israeli army. Rev. Dr. Isaac will explain how the Nakba is an ongoing reality for the Palestinians. Seventy- five years after the establishment of Israel\, the Nakba continues to impact all aspects of Palestinian society\, including the shrinking Christian minority. \nRev. Dr. Munther Isaac is Pastor of Evangelical Lutheran Church in Bethlehem\, and is also the Academic Dean of Bethlehem Bible College. He lives in Bethlehem with his family. \nPlease email mepn@mepn.org with any questions. \n\n\n	Related
URL:https://womenagainstmilitarymadness.org/events/the-ongoing-nakba-75-years-later/
LOCATION:Online Event
CATEGORIES:Featured Events,Upcoming Events
ATTACH;FMTTYPE=image/jpeg:https://womenagainstmilitarymadness.org/wp-content/uploads/2023/06/IMG_9536-munther-263x263-1.jpg
ORGANIZER;CN="Middle East Peace Now":MAILTO:mepn@mepn.org
END:VEVENT
END:VCALENDAR