BEGIN:VCALENDAR
VERSION:2.0
PRODID:-//Women Against Military Madness - ECPv6.15.20//NONSGML v1.0//EN
CALSCALE:GREGORIAN
METHOD:PUBLISH
X-WR-CALNAME:Women Against Military Madness
X-ORIGINAL-URL:https://womenagainstmilitarymadness.org
X-WR-CALDESC:Events for Women Against Military Madness
REFRESH-INTERVAL;VALUE=DURATION:PT1H
X-Robots-Tag:noindex
X-PUBLISHED-TTL:PT1H
BEGIN:VTIMEZONE
TZID:America/Chicago
BEGIN:DAYLIGHT
TZOFFSETFROM:-0600
TZOFFSETTO:-0500
TZNAME:CDT
DTSTART:20240310T080000
END:DAYLIGHT
BEGIN:STANDARD
TZOFFSETFROM:-0500
TZOFFSETTO:-0600
TZNAME:CST
DTSTART:20241103T070000
END:STANDARD
BEGIN:DAYLIGHT
TZOFFSETFROM:-0600
TZOFFSETTO:-0500
TZNAME:CDT
DTSTART:20250309T080000
END:DAYLIGHT
BEGIN:STANDARD
TZOFFSETFROM:-0500
TZOFFSETTO:-0600
TZNAME:CST
DTSTART:20251102T070000
END:STANDARD
BEGIN:DAYLIGHT
TZOFFSETFROM:-0600
TZOFFSETTO:-0500
TZNAME:CDT
DTSTART:20260308T080000
END:DAYLIGHT
BEGIN:STANDARD
TZOFFSETFROM:-0500
TZOFFSETTO:-0600
TZNAME:CST
DTSTART:20261101T070000
END:STANDARD
END:VTIMEZONE
BEGIN:VEVENT
DTSTART;TZID=America/Chicago:20251008T190000
DTEND;TZID=America/Chicago:20251008T210000
DTSTAMP:20260424T093751
CREATED:20230913T205404Z
LAST-MODIFIED:20230913T205404Z
UID:25699-1759950000-1759957200@womenagainstmilitarymadness.org
SUMMARY:The Sacred Sundance Movie
DESCRIPTION:WAMM SECOND MONDAY MOVIES PRESENTS \nThe Sacred Sundance: The Transfer of a Ceremony \nMonday\, October 9\, 2023 at 7:00 p.m. 4200 Cedar Ave. So.\, Minneapolis (on Indigenous Peoples’ Day) \nThe Sacred Sundance: The Transfer of a Ceremony\, chronicles Mi’kmaq director Brian J Francis’ journey into the traditions of North American indigenous spirituality. The Sundance is new to the Mi’kmaq people of Eastern Canada and is brought to them from the west by elder William Nevin of the Elsipogtog First nation…The Sundance itself cannot be filmed\, but through the preparations for the ceremony and the words of its participants\, we are left an understanding of the healing power it has brought to communities who traditionally did nor practice it. The film offers a model for indigenous people reclaiming their heritage and embracing traditions- and with them\, hope for the future. \nDirector: Brian J. Francis 2008/Canada/1 hour 9 minutes \nMasks and social distancing by choice.\n\nConnecting the dots…discussion\nAlways FREE and open to the public\nALL ARE WELCOME! Free refreshments!\nSponsored by the WAMM Movie Committee\n\nFFI: 612.827.5364 or general@wamm.me\n\n\n	Related
URL:https://womenagainstmilitarymadness.org/events/the-sacred-sundance-movie/
LOCATION:4200 Cedar Ave S\, Minneapolis MN 55407\, 4200 Cedar Ave S\, Minneapolis\, MN\, 55407\, United States
CATEGORIES:Featured Events,Upcoming Events
ATTACH;FMTTYPE=image/png:https://womenagainstmilitarymadness.org/wp-content/uploads/2023/09/Screenshot-2023-09-13-at-3.39.49-PM.png
END:VEVENT
END:VCALENDAR