BEGIN:VCALENDAR
VERSION:2.0
PRODID:-//Women Against Military Madness - ECPv6.15.20//NONSGML v1.0//EN
CALSCALE:GREGORIAN
METHOD:PUBLISH
X-WR-CALNAME:Women Against Military Madness
X-ORIGINAL-URL:https://womenagainstmilitarymadness.org
X-WR-CALDESC:Events for Women Against Military Madness
REFRESH-INTERVAL;VALUE=DURATION:PT1H
X-Robots-Tag:noindex
X-PUBLISHED-TTL:PT1H
BEGIN:VTIMEZONE
TZID:America/Chicago
BEGIN:DAYLIGHT
TZOFFSETFROM:-0600
TZOFFSETTO:-0500
TZNAME:CDT
DTSTART:20240310T080000
END:DAYLIGHT
BEGIN:STANDARD
TZOFFSETFROM:-0500
TZOFFSETTO:-0600
TZNAME:CST
DTSTART:20241103T070000
END:STANDARD
BEGIN:DAYLIGHT
TZOFFSETFROM:-0600
TZOFFSETTO:-0500
TZNAME:CDT
DTSTART:20250309T080000
END:DAYLIGHT
BEGIN:STANDARD
TZOFFSETFROM:-0500
TZOFFSETTO:-0600
TZNAME:CST
DTSTART:20251102T070000
END:STANDARD
BEGIN:DAYLIGHT
TZOFFSETFROM:-0600
TZOFFSETTO:-0500
TZNAME:CDT
DTSTART:20260308T080000
END:DAYLIGHT
BEGIN:STANDARD
TZOFFSETFROM:-0500
TZOFFSETTO:-0600
TZNAME:CST
DTSTART:20261101T070000
END:STANDARD
END:VTIMEZONE
BEGIN:VEVENT
DTSTART;TZID=America/Chicago:20251115T130000
DTEND;TZID=America/Chicago:20251115T160000
DTSTAMP:20260423T163642
CREATED:20251029T000254Z
LAST-MODIFIED:20251029T000254Z
UID:32955-1763211600-1763222400@womenagainstmilitarymadness.org
SUMMARY:This is Not a Drill Movie Screening and Q+A with Roger Waters
DESCRIPTION:Saturday\, November 15\, 2025\, 1:00 – 3:45 PM\, Holy Trinity Church\, 2730 E 31st Street\, Minneapolis \nEnter on the East side of the building. \nThe parking lot entrance off Lake Street is between 28th and 29th Avenues – next to the “Trinity on Lake” building. \n4:00 PM: ROGER WATERS LIVE WITH Q&A ON ZOOM \nThis is Not A Drill\, with a message of love\, hope and unity\, is “dedicated to brothers and sisters all over the world who are engaged in the existential battle for the soul of humanity.” \nRoger is known worldwide for not only his music\, but his work for justice and peace. In 2025 he won the Artistic War Abolisher of 2025 Award from World Beyond War for his “incredibly powerful combination of songwriting\, singing\, speaking and performing against the horrors of war\,” in the words of David Swanson\, World Beyond War executive director. \nDirectors: Roger Waters\, Sean Evans / Distributed by Trafalgar\, Released 2025 / 2 h 24m \nThis is Not a Drill: Live From Prague is a 2023 concert film by Roger Waters\, featuring a live performance by Roger and the band. Roger is the cofounder of Pink Floyd. The film combines songs from his 60-year career with Pink Floyd and his solo work\, and is described as a stunning “cinematic extravaganza” with political commentary that includes elaborate staging and visual effects. \nThe show is an indictment of the militarism\, perpetual war\, imperialism\, settler colonialism\, and the “corporate dystopia” we all struggle to survive\, and a call to action to love\, protect\, and share our precious and precarious planet home. \nFilm cosponsors are Women Against Military Madness and Veterans For Peace Chapter 27\, with thanks to Holy Trinity Church for their support. \n\n\n	Related
URL:https://womenagainstmilitarymadness.org/events/this-is-not-a-drill-movie-screening-and-qa-with-roger-waters/
LOCATION:Holy Trinity Lutheran Church\, 2730 East 31st Street\, Minneapolis\, MN\, 55406\, United States
CATEGORIES:Featured Events,Upcoming Events
ATTACH;FMTTYPE=image/webp:https://womenagainstmilitarymadness.org/wp-content/uploads/2025/10/TINAD.webp
ORGANIZER;CN="Women Against Military Madness":MAILTO:general@wamm.me
END:VEVENT
END:VCALENDAR