BEGIN:VCALENDAR
VERSION:2.0
PRODID:-//Women Against Military Madness - ECPv6.15.20//NONSGML v1.0//EN
CALSCALE:GREGORIAN
METHOD:PUBLISH
X-WR-CALNAME:Women Against Military Madness
X-ORIGINAL-URL:https://womenagainstmilitarymadness.org
X-WR-CALDESC:Events for Women Against Military Madness
REFRESH-INTERVAL;VALUE=DURATION:PT1H
X-Robots-Tag:noindex
X-PUBLISHED-TTL:PT1H
BEGIN:VTIMEZONE
TZID:America/Chicago
BEGIN:DAYLIGHT
TZOFFSETFROM:-0600
TZOFFSETTO:-0500
TZNAME:CDT
DTSTART:20240310T080000
END:DAYLIGHT
BEGIN:STANDARD
TZOFFSETFROM:-0500
TZOFFSETTO:-0600
TZNAME:CST
DTSTART:20241103T070000
END:STANDARD
BEGIN:DAYLIGHT
TZOFFSETFROM:-0600
TZOFFSETTO:-0500
TZNAME:CDT
DTSTART:20250309T080000
END:DAYLIGHT
BEGIN:STANDARD
TZOFFSETFROM:-0500
TZOFFSETTO:-0600
TZNAME:CST
DTSTART:20251102T070000
END:STANDARD
BEGIN:DAYLIGHT
TZOFFSETFROM:-0600
TZOFFSETTO:-0500
TZNAME:CDT
DTSTART:20260308T080000
END:DAYLIGHT
BEGIN:STANDARD
TZOFFSETFROM:-0500
TZOFFSETTO:-0600
TZNAME:CST
DTSTART:20261101T070000
END:STANDARD
END:VTIMEZONE
BEGIN:VEVENT
DTSTART;TZID=America/Chicago:20250918T140000
DTEND;TZID=America/Chicago:20250918T140000
DTSTAMP:20260423T205216
CREATED:20240909T165237Z
LAST-MODIFIED:20240909T165237Z
UID:28773-1758204000-1758204000@womenagainstmilitarymadness.org
SUMMARY:UMN Walk Out\, Rally\, and March
DESCRIPTION:Wednesday\, September 18th. 2 PM Walk out\, 2:30 PM Rally followed by a march\, Northrop Plaza (84 Church Street SE) \n🇵🇸 INAUGURATION WALK OUT\, RALLY\, AND MARCH! 🇵🇸 \nJoin us on Wednesday\, September 18th in protesting the inauguration of UMN President Rebecca Cunningham with a walk out\, rally\, and march! Cunningham has started out her time as president by lying to students and doing everything in her power to block divestment from Israel. Stand with Palestine and reject her inauguration! Students: skip class! Staff: leave work! Faculty: cancel class! \nOrganized by UMN Divest and UMN Educators for Justice in Palestine \n\n\n	Related
URL:https://womenagainstmilitarymadness.org/events/umn-walk-out-rally-and-march/
LOCATION:Northrop Plaza\, 84 Church St SE\, Minneapolis
CATEGORIES:Upcoming Events
ATTACH;FMTTYPE=image/png:https://womenagainstmilitarymadness.org/wp-content/uploads/2024/09/UMN-walkout.png
END:VEVENT
END:VCALENDAR