BEGIN:VCALENDAR
VERSION:2.0
PRODID:-//Women Against Military Madness - ECPv6.15.20//NONSGML v1.0//EN
CALSCALE:GREGORIAN
METHOD:PUBLISH
X-WR-CALNAME:Women Against Military Madness
X-ORIGINAL-URL:https://womenagainstmilitarymadness.org
X-WR-CALDESC:Events for Women Against Military Madness
REFRESH-INTERVAL;VALUE=DURATION:PT1H
X-Robots-Tag:noindex
X-PUBLISHED-TTL:PT1H
BEGIN:VTIMEZONE
TZID:America/Chicago
BEGIN:DAYLIGHT
TZOFFSETFROM:-0600
TZOFFSETTO:-0500
TZNAME:CDT
DTSTART:20250309T080000
END:DAYLIGHT
BEGIN:STANDARD
TZOFFSETFROM:-0500
TZOFFSETTO:-0600
TZNAME:CST
DTSTART:20251102T070000
END:STANDARD
BEGIN:DAYLIGHT
TZOFFSETFROM:-0600
TZOFFSETTO:-0500
TZNAME:CDT
DTSTART:20260308T080000
END:DAYLIGHT
BEGIN:STANDARD
TZOFFSETFROM:-0500
TZOFFSETTO:-0600
TZNAME:CST
DTSTART:20261101T070000
END:STANDARD
BEGIN:DAYLIGHT
TZOFFSETFROM:-0600
TZOFFSETTO:-0500
TZNAME:CDT
DTSTART:20270314T080000
END:DAYLIGHT
BEGIN:STANDARD
TZOFFSETFROM:-0500
TZOFFSETTO:-0600
TZNAME:CST
DTSTART:20271107T070000
END:STANDARD
END:VTIMEZONE
BEGIN:VEVENT
DTSTART;TZID=America/Chicago:20260126T130000
DTEND;TZID=America/Chicago:20260126T140000
DTSTAMP:20260423T190955
CREATED:20240123T184000Z
LAST-MODIFIED:20240124T185843Z
UID:26910-1769432400-1769436000@womenagainstmilitarymadness.org
SUMMARY:US Hands Off Yemen!
DESCRIPTION:Saturday\, January 27\, 2024\, 1:00 pm\, MayDay Bookstore\, 301 Cedar Ave\, MPLS\, MN \nRally to support Yemen and demand the U.S. stop bombing Yemen.\nEnd The Siege on Gaza!\n\nJoin us at MayDay Plaza at 1 pm for a program of speakers.\nMore details to come.\n\nInitiated by the MN Peace Action Coalition\n\n\n	Related
URL:https://womenagainstmilitarymadness.org/events/us-hands-off-yemen/
LOCATION:Mayday Plaza\, 301 Cedar Ave\, Minneapolis\, MN\, 55455\, United States
CATEGORIES:Featured Events,Sponsored Events,Upcoming Events
ATTACH;FMTTYPE=image/jpeg:https://womenagainstmilitarymadness.org/wp-content/uploads/2024/01/thumbnail_MPAC_Hands_off_Yemen_2_1_1080x1080.jpg
END:VEVENT
END:VCALENDAR