BEGIN:VCALENDAR
VERSION:2.0
PRODID:-//Women Against Military Madness - ECPv6.15.20//NONSGML v1.0//EN
CALSCALE:GREGORIAN
METHOD:PUBLISH
X-WR-CALNAME:Women Against Military Madness
X-ORIGINAL-URL:https://womenagainstmilitarymadness.org
X-WR-CALDESC:Events for Women Against Military Madness
REFRESH-INTERVAL;VALUE=DURATION:PT1H
X-Robots-Tag:noindex
X-PUBLISHED-TTL:PT1H
BEGIN:VTIMEZONE
TZID:America/Chicago
BEGIN:DAYLIGHT
TZOFFSETFROM:-0600
TZOFFSETTO:-0500
TZNAME:CDT
DTSTART:20240310T080000
END:DAYLIGHT
BEGIN:STANDARD
TZOFFSETFROM:-0500
TZOFFSETTO:-0600
TZNAME:CST
DTSTART:20241103T070000
END:STANDARD
BEGIN:DAYLIGHT
TZOFFSETFROM:-0600
TZOFFSETTO:-0500
TZNAME:CDT
DTSTART:20250309T080000
END:DAYLIGHT
BEGIN:STANDARD
TZOFFSETFROM:-0500
TZOFFSETTO:-0600
TZNAME:CST
DTSTART:20251102T070000
END:STANDARD
BEGIN:DAYLIGHT
TZOFFSETFROM:-0600
TZOFFSETTO:-0500
TZNAME:CDT
DTSTART:20260308T080000
END:DAYLIGHT
BEGIN:STANDARD
TZOFFSETFROM:-0500
TZOFFSETTO:-0600
TZNAME:CST
DTSTART:20261101T070000
END:STANDARD
END:VTIMEZONE
BEGIN:VEVENT
DTSTART;TZID=America/Chicago:20250913T140000
DTEND;TZID=America/Chicago:20250913T160000
DTSTAMP:20260423T182321
CREATED:20250819T211941Z
LAST-MODIFIED:20250819T211941Z
UID:30761-1757772000-1757779200@womenagainstmilitarymadness.org
SUMMARY:US OUT OF EVERYWHERE! Reportback from the People’s Summit for Korea
DESCRIPTION:Saturday\, September 13\, 2025\, 2 PM\, Bartsch Room at Holy Trinity Church\, 2730 E 31st St\, Minneapolis\, MN \n  \nToday\, August 15\, 2025 marks the 80th anniversary of Korean Liberation Day\, which signifies the date in 1945 when the Japanese occupation of Korea formally ended. \nHowever\, just a few years later the United States would establish its own military occupation of the Korean peninsula. The U.S. occupation continues to this day and prevents self determination for ALL Koreans. \nAt the end of July the MN Anti-War Committee\, along with Women Against Military Madness\, sent a delegation of our members to the first ever People’s Summit For Korea in New York City\, organized by @nodutdol. \nWe look forward to presenting a more formal reportback of what we learned at the AWC/WAMM co-hosted educational event on Saturday September 13 at 2PM at Holy Trinity Church in Minneapolis. \nWe stand in unwavering solidarity with the Korean people’s right to self determination\, reunification\, and a future free from U.S. imperialism! \nU.S. OUT OF KOREA!\nCLOSE ALL U.S. BASES!\nEND SANCTIONS ON NORTH KOREA!\nSTOP THE U.S. WAR DRILLS IN KOREA! \n  \nOrganized by the MN Anti-War Committee and WAMM \n\n\n	Related
URL:https://womenagainstmilitarymadness.org/events/us-out-of-everywhere-reportback-from-the-peoples-summit-for-korea-2/
LOCATION:Holy Trinity Lutheran Church\, 2730 East 31st Street\, Minneapolis\, MN\, 55406\, United States
CATEGORIES:Featured Events,Upcoming Events
ATTACH;FMTTYPE=image/webp:https://womenagainstmilitarymadness.org/wp-content/uploads/2025/08/usoutofkorea.webp
ORGANIZER;CN="Anti-War Committee":MAILTO:info@antiwarcommittee.org
END:VEVENT
END:VCALENDAR