BEGIN:VCALENDAR
VERSION:2.0
PRODID:-//Women Against Military Madness - ECPv6.15.20//NONSGML v1.0//EN
CALSCALE:GREGORIAN
METHOD:PUBLISH
X-WR-CALNAME:Women Against Military Madness
X-ORIGINAL-URL:https://womenagainstmilitarymadness.org
X-WR-CALDESC:Events for Women Against Military Madness
REFRESH-INTERVAL;VALUE=DURATION:PT1H
X-Robots-Tag:noindex
X-PUBLISHED-TTL:PT1H
BEGIN:VTIMEZONE
TZID:America/Chicago
BEGIN:DAYLIGHT
TZOFFSETFROM:-0600
TZOFFSETTO:-0500
TZNAME:CDT
DTSTART:20240310T080000
END:DAYLIGHT
BEGIN:STANDARD
TZOFFSETFROM:-0500
TZOFFSETTO:-0600
TZNAME:CST
DTSTART:20241103T070000
END:STANDARD
BEGIN:DAYLIGHT
TZOFFSETFROM:-0600
TZOFFSETTO:-0500
TZNAME:CDT
DTSTART:20250309T080000
END:DAYLIGHT
BEGIN:STANDARD
TZOFFSETFROM:-0500
TZOFFSETTO:-0600
TZNAME:CST
DTSTART:20251102T070000
END:STANDARD
BEGIN:DAYLIGHT
TZOFFSETFROM:-0600
TZOFFSETTO:-0500
TZNAME:CDT
DTSTART:20260308T080000
END:DAYLIGHT
BEGIN:STANDARD
TZOFFSETFROM:-0500
TZOFFSETTO:-0600
TZNAME:CST
DTSTART:20261101T070000
END:STANDARD
END:VTIMEZONE
BEGIN:VEVENT
DTSTART;TZID=America/Chicago:20250527T103000
DTEND;TZID=America/Chicago:20250527T113000
DTSTAMP:20260425T211027
CREATED:20240522T172943Z
LAST-MODIFIED:20240522T172943Z
UID:27459-1748341800-1748345400@womenagainstmilitarymadness.org
SUMMARY:Veterans For Peace Memorial Day Service
DESCRIPTION:Monday\, May 27\, 2024\, 10:30 am\, Veterans Service Building\, 20 West 12th St.\, St. Paul MN*\n\nVeterans For Peace Chapter 27 will hold our yearly Memorial Day Service on Monday\, May 27\, 2024\, beginning at 10:30 am. We will gather and have a Native welcome\, music\, spoken word and have a time to remember All those have been lost to All wars\, veterans and non-veterans. Please bring a chair and whatever you need to be comfortable.\n\n*The Service will be held in the open space by the Veterans Service building at 20 West 12th St.\, just east of John Ireland Blvd and W.12th\, and south of the Vietnam Veterans memorial.\n\n\n	Related
URL:https://womenagainstmilitarymadness.org/events/veterans-for-peace-memorial-day-service/
LOCATION:Veterans Service Building\, 20 West 12th St.\, St Paul\, MN\, 55155\, United States
CATEGORIES:Featured Events,Sponsored Events,Upcoming Events
ATTACH;FMTTYPE=image/jpeg:https://womenagainstmilitarymadness.org/wp-content/uploads/2024/05/441459458_875439121290345_250540928023570811_n.jpg
ORGANIZER;CN="Veterans For Peace Chapter 27":MAILTO:vfpchapter27@gmail.com
END:VEVENT
END:VCALENDAR