BEGIN:VCALENDAR
VERSION:2.0
PRODID:-//Women Against Military Madness - ECPv6.15.20//NONSGML v1.0//EN
CALSCALE:GREGORIAN
METHOD:PUBLISH
X-WR-CALNAME:Women Against Military Madness
X-ORIGINAL-URL:https://womenagainstmilitarymadness.org
X-WR-CALDESC:Events for Women Against Military Madness
REFRESH-INTERVAL;VALUE=DURATION:PT1H
X-Robots-Tag:noindex
X-PUBLISHED-TTL:PT1H
BEGIN:VTIMEZONE
TZID:America/Chicago
BEGIN:DAYLIGHT
TZOFFSETFROM:-0600
TZOFFSETTO:-0500
TZNAME:CDT
DTSTART:20240310T080000
END:DAYLIGHT
BEGIN:STANDARD
TZOFFSETFROM:-0500
TZOFFSETTO:-0600
TZNAME:CST
DTSTART:20241103T070000
END:STANDARD
BEGIN:DAYLIGHT
TZOFFSETFROM:-0600
TZOFFSETTO:-0500
TZNAME:CDT
DTSTART:20250309T080000
END:DAYLIGHT
BEGIN:STANDARD
TZOFFSETFROM:-0500
TZOFFSETTO:-0600
TZNAME:CST
DTSTART:20251102T070000
END:STANDARD
BEGIN:DAYLIGHT
TZOFFSETFROM:-0600
TZOFFSETTO:-0500
TZNAME:CDT
DTSTART:20260308T080000
END:DAYLIGHT
BEGIN:STANDARD
TZOFFSETFROM:-0500
TZOFFSETTO:-0600
TZNAME:CST
DTSTART:20261101T070000
END:STANDARD
END:VTIMEZONE
BEGIN:VEVENT
DTSTART;TZID=America/Chicago:20250929T100000
DTEND;TZID=America/Chicago:20250929T120000
DTSTAMP:20260423T203551
CREATED:20230801T171403Z
LAST-MODIFIED:20230919T160250Z
UID:25589-1759140000-1759147200@womenagainstmilitarymadness.org
SUMMARY:Walk for Peace and Justice
DESCRIPTION:Walk for Peace and Justice and Hands Across Mississippi for Clean Water\, Clean Air and Clean Land\,\, Saturday\, September 30\, 2023.  Schedule below.\n\nWe are calling on all Minnesotans to participate in these inspiring events!\n\nChallenged by our experiences of violence across the Twin Cities in recent years\, Friends for a NonViolent World (FNVW)\, in collaboration with Twin Cities Nonviolent (TCNV) and many other peace and justice groups\, are organizing a Walk for Peace and Justice on September 30\, 2023.\n\nThe walk takes place on Day 10 of Twin Cities Nonviolent annual 12 Days Free from Violence.  Brackett Park in Minneapolis is the kick-off location. We will walk to the Lake Street/Marshall Avenue Peace Bridge for a Hands Across Mississippi: Clean Water\, Clear Air and Clean Land ceremony sponsored by TC Nonviolent and Vote Climate.\n\n\nWAMM’s End Military Madness Against the Earth and Veterans for Peace Chapter 27 will be walking the 1/2 mile walk. PLEASE JOIN US We would like both WAMM and VFP members to JOIN US and ALL walkers for peace and justice ARE WELCOME. WAMM and VFP will take the 1/2 mile walk to the bridge for ceremonies. We will have signs available.\n\nAs you can see on the schedule\, the 1/2 mile walk starts about 11:15. You can come earlier and socialize. The festivities begin with coffee and meet and greet at Brackett Park beginning at 10:00 am. Address: 3800 E.28th St.\, Minneapolis.\n\nTogether we will uplift the vision of a world beyond violence and a culture rooted in nonviolence as we create collaborative communities.\n\nFind out more here: http://fnvw.org/walk4peace\n\nEndorsed by Women Against Military Madness\n\nIn addition these events will be listed on the Peace in Ukraine Coalition website that is asking for  a focus on Peace in Ukraine from September 30 to Oct. 8\, 2023 and is calling for an Immediate Ceasefire with Diplomacy. More information is available about this Global coalition of over 100 groups at PeaceinUkraine.org.  WAMM and Veterans for Peace are both coalition members and cosponsors of Peace in Ukraine.\n\nSchedule:\n10:00 am  Gathering at Brackett Park\, 3800 E. 28th St.. Minneapolis11:15 am  Gather at Brackett Park for walk to Lake Street/Marshall Ave Peace Bridge.\n12:00 Noon  Hands Across Mississippi ceremony on the Peace Bridge\n\nSee you there!\n\n\n	Related
URL:https://womenagainstmilitarymadness.org/events/walk-for-peace-and-justice/
LOCATION:Lake Street/Marshall Avenue Bridge over the Mississippi River\, 4998-4800 E Lake Street\, Minneapolis\, MN\, 55407\, United States
CATEGORIES:Featured Events,Upcoming Events
ATTACH;FMTTYPE=image/jpeg:https://womenagainstmilitarymadness.org/wp-content/uploads/2023/08/Sept-30-Walk-for-Peaace.jpeg
END:VEVENT
END:VCALENDAR