BEGIN:VCALENDAR
VERSION:2.0
PRODID:-//Women Against Military Madness - ECPv6.15.20//NONSGML v1.0//EN
CALSCALE:GREGORIAN
METHOD:PUBLISH
X-WR-CALNAME:Women Against Military Madness
X-ORIGINAL-URL:https://womenagainstmilitarymadness.org
X-WR-CALDESC:Events for Women Against Military Madness
REFRESH-INTERVAL;VALUE=DURATION:PT1H
X-Robots-Tag:noindex
X-PUBLISHED-TTL:PT1H
BEGIN:VTIMEZONE
TZID:America/Chicago
BEGIN:DAYLIGHT
TZOFFSETFROM:-0600
TZOFFSETTO:-0500
TZNAME:CDT
DTSTART:20250309T080000
END:DAYLIGHT
BEGIN:STANDARD
TZOFFSETFROM:-0500
TZOFFSETTO:-0600
TZNAME:CST
DTSTART:20251102T070000
END:STANDARD
BEGIN:DAYLIGHT
TZOFFSETFROM:-0600
TZOFFSETTO:-0500
TZNAME:CDT
DTSTART:20260308T080000
END:DAYLIGHT
BEGIN:STANDARD
TZOFFSETFROM:-0500
TZOFFSETTO:-0600
TZNAME:CST
DTSTART:20261101T070000
END:STANDARD
BEGIN:DAYLIGHT
TZOFFSETFROM:-0600
TZOFFSETTO:-0500
TZNAME:CDT
DTSTART:20270314T080000
END:DAYLIGHT
BEGIN:STANDARD
TZOFFSETFROM:-0500
TZOFFSETTO:-0600
TZNAME:CST
DTSTART:20271107T070000
END:STANDARD
END:VTIMEZONE
BEGIN:VEVENT
DTSTART;TZID=America/Chicago:20260227T170000
DTEND;TZID=America/Chicago:20260227T190000
DTSTAMP:20260424T000545
CREATED:20240227T190817Z
LAST-MODIFIED:20240227T190817Z
UID:27030-1772211600-1772218800@womenagainstmilitarymadness.org
SUMMARY:WALZ DIVEST! Rally & Press Conference
DESCRIPTION:Wednesday\, February 28\, 2024\, 5:00 PM\, 176 Mississippi River Blvd \nOn the eve of the State Board of Investment meeting\, the Anti-War Committee and our partners will address Walz at his home to call for immediate divestment from genocide and apartheid in Israel! \nStand up for Palestinian lives! Send a message to the world that Minnesota does not support the brutal genocide and ethnic cleansing of Palestinians! \nSHOW YOUR SUPPORT FOR MN DIVESTMENT! \nPress Conference & Rally\n⏰Wed\, Feb 28 – 5 PM\n📍Eastcliff Mansion\, 176 N Mississippi River Rd\, Mpls \nJoin us at the SBI meeting!\n⏰Thurs\, Feb 29 – 10 AM\n📍MN Senate Building Rm 1200\n95 University Ave West\, St. Paul \nOrganized by the Anti War Committee and the Free Palestine Coalition \n\n\n	Related
URL:https://womenagainstmilitarymadness.org/events/walz-divest-rally-press-conference/
LOCATION:Eastcliff\, 176 N Mississippi River Blvd\, St Paul\, MN\, 55104\, United States
CATEGORIES:Featured Events,Sponsored Events,Upcoming Events
ATTACH;FMTTYPE=image/jpeg:https://womenagainstmilitarymadness.org/wp-content/uploads/2024/02/8009b5ea-bead-4668-0a21-4758c5bb65b5.jpg
ORGANIZER;CN="Anti-War Committee":MAILTO:info@antiwarcommittee.org
END:VEVENT
END:VCALENDAR